BEGIN:VCALENDAR
VERSION:2.0
PRODID:-//ChamberMaster//Event Calendar 2.0//EN
METHOD:PUBLISH
X-PUBLISHED-TTL:P3D
REFRESH-INTERVAL:P3D
CALSCALE:GREGORIAN
BEGIN:VEVENT
DTSTART:20200902T210000Z
DTEND:20200902T220000Z
X-MICROSOFT-CDO-ALLDAYEVENT:FALSE
SUMMARY:1 Collision Grimes Ribbon Cutting
DESCRIPTION:Join us at a multi-chamber ribbon cutting celebrating 1 Collision Grimes!\n\n***Registration Required*** \n\nhttps://uniquelyurbandale.chambermaster.com/eventregistration/register/10941\n\n\n\n\n\nUNDER NEW MANAGEMENT! Formerly Metro Collision\, 1Collision Grimes will offer the same high-quality auto body repair. 1Collision Grimes joins 1Collision Ankeny and 1Collision R Jones as the newest member of the 1Collision Des Moines Network\, who together\, make up 95 years of auto body experience in the Des Moines area. Join us to celebrate this new transition and to learn more about 1Collision Grimes!
X-ALT-DESC;FMTTYPE=text/html:Join us at a multi-chamber ribbon cutting celebrating 1 Collision Grimes!<br />\n***Registration Required***&nbsp\;<br />\n<a href="https://uniquelyurbandale.chambermaster.com/eventregistration/register/10941"><span style="color:blue\;">https://uniquelyurbandale.chambermaster.com/eventregistration/register/10941</span></a><br />\n<br />\n<br />\n<span style="font-family: Helvetica\, Arial\, sans-serif\; white-space: pre-wrap\;">UNDER NEW MANAGEMENT! Formerly Metro Collision\, 1Collision Grimes will offer the same high-quality auto body repair. 1Collision Grimes joins 1Collision Ankeny and 1Collision R Jones as the newest member of the 1Collision Des Moines Network\, who together\, make up 95 years of auto body experience in the Des Moines area. Join us to celebrate this new transition and to learn more about 1Collision Grimes!</span>
LOCATION:1Collision Grimes 2100 SE Gateway Dr. Suite 100 Grimes\, IA 50111
UID:e.2636.1573
SEQUENCE:3
DTSTAMP:20260423T020031Z
URL:https://business.grimesiowa.com/events/details/1-collision-grimes-ribbon-cutting-1573
END:VEVENT

END:VCALENDAR
