BEGIN:VCALENDAR
VERSION:2.0
PRODID:-//ChamberMaster//Event Calendar 2.0//EN
METHOD:PUBLISH
X-PUBLISHED-TTL:P3D
REFRESH-INTERVAL:P3D
CALSCALE:GREGORIAN
BEGIN:VEVENT
DTSTART:20171101T213000Z
DTEND:20171101T230000Z
X-MICROSOFT-CDO-ALLDAYEVENT:FALSE
SUMMARY:2017 Movember Kick Off Event
DESCRIPTION:Join us at TCI for hors d'oeuvres and a cash bar  to kick off this fun event to raise awareness for men's health issues! Participants compete in several facial hair growing categories to raise money for a good cause! Grimes Chamber & Economic Development\, Johnston Chamber of Commerce\, and Polk City Chamber of Commerce members and their guests are welcome to attend! This event is sponsored by Unity Point Family Medicine Grimes and Tournament Club of Iowa.
X-ALT-DESC;FMTTYPE=text/html:<span style="color: rgb(85\, 85\, 85)\; font-family: proxima-nova\, sans-serif\, Arial\; font-size: 15px\; background-color: rgb(255\, 255\, 255)\;">Join us at TCI for <strong>hors d&#39\;oeuvres</strong> and a <strong>cash bar&nbsp\; </strong>to kick off this fun event to raise awareness for men&#39\;s health issues! Participants compete in several facial hair growing categories to raise money for a good cause! Grimes Chamber &amp\; Economic Development\, Johnston Chamber of Commerce\, and Polk City Chamber of Commerce members and their guests are welcome to attend! This event is sponsored by <strong>Unity Point Family Medicine Grimes</strong> and <strong>Tournament Club of Iowa</strong>.</span>
LOCATION:Tournament Club of Iowa (TCI) 1000 Tradition Drive Polk City\, IA 50226
UID:e.2636.235
SEQUENCE:3
DTSTAMP:20260424T232441Z
URL:https://business.grimesiowa.com/events/details/2017-movember-kick-off-event-235
END:VEVENT

END:VCALENDAR
