BEGIN:VCALENDAR
VERSION:2.0
PRODID:-//ChamberMaster//Event Calendar 2.0//EN
METHOD:PUBLISH
X-PUBLISHED-TTL:P3D
REFRESH-INTERVAL:P3D
CALSCALE:GREGORIAN
BEGIN:VEVENT
DTSTART:20180609T120000Z
DTEND:20180609T140000Z
X-MICROSOFT-CDO-ALLDAYEVENT:FALSE
SUMMARY:2018 Governors Days 5k& Fun Run Registration
DESCRIPTION:Governors Days is one of the grandest summer festivals in the Des Moines\, Iowa metropolitan area. Held entirely within the Governors District\, in the heart of Grimes\, Iowa\, this premier summer event incorporates all the ingredients for an exciting family friendly event.\n \n\nJoin us for the 17th Annual 5K and Fun Run! Dressing to match the theme "Once Upon a Time" is encouraged for the 5K/Fun Run!
X-ALT-DESC;FMTTYPE=text/html:<span style="font-family:arial\;"><span style="color: rgb(63\, 63\, 77)\; font-size: 14px\; background-color: rgb(255\, 255\, 255)\;">Governors Days is one of the grandest summer festivals in the Des Moines\, Iowa metropolitan area. Held entirely within the&nbsp\;</span><a href="http://www.governorsdistrict.org/" style="color: rgb(162\, 63\, 70)\; font-size: 14px\; line-height: inherit\; font-family: open_sansregular\, arial\, sans-serif\; text-decoration: none\; bottom: auto\; box-sizing: content-box\; clear: none\; content: normal\; direction: inherit\; display: inline\; empty-cells: show\; float: none\; font-variant-numeric: inherit\; font-stretch: inherit\; left: auto\; margin: 0px\; max-height: none\; max-width: none\; min-height: initial\; min-width: initial\; opacity: 1\; outline-offset: 0px\; overflow: visible\; padding: 0px\; position: static\; resize: none\; right: auto\; table-layout: auto\; text-overflow: clip\; top: auto\; vertical-align: baseline\; visibility: inherit\; word-break: inherit\; word-wrap: break-word\; z-index: auto\; background: none rgb(255\, 255\, 255)\; border: none\; border-collapse: separate\; border-radius: 0px\; height: auto\; width: auto\; box-shadow: none\;" target="_blank">Governors District</a><span style="color: rgb(63\, 63\, 77)\; font-size: 14px\; background-color: rgb(255\, 255\, 255)\;">\, in the heart of Grimes\, Iowa\, this premier summer event incorporates all the ingredients for an exciting family friendly event.</span></span>\n<div>&nbsp\;</div>\n\n<div><span style="font-family:arial\;"><font color="#3f3f4d"><span style="font-size: 14px\; background-color: rgb(255\, 255\, 255)\;">Join us for the 17th Annual 5K and Fun Run!&nbsp\;</span></font></span><span style="font-family:calibri\,sans-serif\;"><span style="font-size:11.0pt\;">Dressing to match the theme &quot\;Once Upon a Time&quot\; is encouraged for the 5K/Fun Run!</span></span></div>\n
LOCATION:Both races will start in the ADESA parking lot and be run through the residential areas in Grimes.
UID:e.2636.1283
SEQUENCE:3
DTSTAMP:20260424T144304Z
URL:https://business.grimesiowa.com/events/details/2018-governors-days-5k-fun-run-registration-1283
END:VEVENT

END:VCALENDAR
