BEGIN:VCALENDAR
VERSION:2.0
PRODID:-//ChamberMaster//Event Calendar 2.0//EN
METHOD:PUBLISH
X-PUBLISHED-TTL:P3D
REFRESH-INTERVAL:P3D
CALSCALE:GREGORIAN
BEGIN:VEVENT
DTSTART:20180609T130000Z
DTEND:20180609T150000Z
X-MICROSOFT-CDO-ALLDAYEVENT:FALSE
SUMMARY:2018 Governors Days Parade Registration
DESCRIPTION:Governors Days is one of the grandest summer festivals in the Des Moines\, Iowa metropolitan area. Held entirely within the Governors District\, in the heart of Grimes\, Iowa\, this premier summer event incorporates all the ingredients for an exciting family friendly event.
X-ALT-DESC;FMTTYPE=text/html:<p align="justify" style="font-family: open_sansregular\, arial\, sans-serif\; color: rgb(63\, 63\, 77)\; line-height: inherit\; font-size: 14px\; margin: 1em 0px\; bottom: auto\; box-sizing: content-box\; clear: none\; content: normal\; direction: inherit\; empty-cells: show\; float: none\; font-variant-numeric: inherit\; font-stretch: inherit\; left: auto\; max-height: none\; max-width: none\; min-height: initial\; min-width: initial\; opacity: 1\; outline-offset: 0px\; overflow: visible\; padding: 0px\; position: static\; resize: none\; right: auto\; table-layout: auto\; text-overflow: clip\; top: auto\; vertical-align: baseline\; visibility: inherit\; word-break: inherit\; word-wrap: inherit\; z-index: auto\; background: none rgb(255\, 255\, 255)\; border: none\; border-collapse: separate\; border-radius: 0px\; height: auto\; width: auto\; box-shadow: none\;">Governors Days is one of the grandest summer festivals in the Des Moines\, Iowa metropolitan area. Held entirely within the&nbsp\;<a href="http://www.governorsdistrict.org/" style="color: rgb(162\, 63\, 70)\; font-size: inherit\; line-height: inherit\; font-family: inherit\; text-decoration: none\; bottom: auto\; box-sizing: content-box\; clear: none\; content: normal\; direction: inherit\; display: inline\; empty-cells: show\; float: none\; font-style: inherit\; font-variant: inherit\; font-weight: inherit\; font-stretch: inherit\; left: auto\; letter-spacing: inherit\; margin: 0px\; max-height: none\; max-width: none\; min-height: initial\; min-width: initial\; opacity: 1\; outline-offset: 0px\; overflow: visible\; padding: 0px\; position: static\; resize: none\; right: auto\; table-layout: auto\; text-align: inherit\; text-indent: inherit\; text-overflow: clip\; text-transform: inherit\; top: auto\; vertical-align: baseline\; visibility: inherit\; white-space: inherit\; word-break: inherit\; word-spacing: inherit\; word-wrap: break-word\; z-index: auto\; background: none\; border: none\; border-collapse: separate\; border-radius: 0px\; height: auto\; width: auto\; box-shadow: none\;" target="_blank">Governors District</a>\, in the heart of Grimes\, Iowa\, this premier summer event incorporates all the ingredients for an exciting family friendly event.</p>\n
LOCATION:Registration will be located at the Grimes Fire Station. The staging area will be located in the parking lot of the Grimes Sports Complex.
UID:e.2636.1282
SEQUENCE:3
DTSTAMP:20260424T144151Z
URL:https://business.grimesiowa.com/events/details/2018-governors-days-parade-registration-1282
END:VEVENT

END:VCALENDAR
