BEGIN:VCALENDAR
VERSION:2.0
PRODID:-//ChamberMaster//Event Calendar 2.0//EN
METHOD:PUBLISH
X-PUBLISHED-TTL:P3D
REFRESH-INTERVAL:P3D
CALSCALE:GREGORIAN
BEGIN:VEVENT
DTSTART:20200629T213000Z
DTEND:20200629T220000Z
X-MICROSOFT-CDO-ALLDAYEVENT:FALSE
SUMMARY:Ankeny Signarama | YESCO Des Moines Ribbon Cutting
DESCRIPTION:Help us celebrate the expansion with our members Ankeny Signarama | YESCO Des Moines. Come learn more about all the things Ankeny Signarama and YESCO can offer online at our Facebook Page.
X-ALT-DESC;FMTTYPE=text/html:Help us celebrate the expansion with our members Ankeny Signarama | YESCO Des Moines. Come learn more about all the things Ankeny Signarama and YESCO can offer online at our Facebook Page.&nbsp\;
LOCATION:Join ONLINE via our Facebook page! We will Facebook life the ribbon cut\, a tour and mini interview with Kathy the owner!
UID:e.2636.1562
SEQUENCE:3
DTSTAMP:20260423T055639Z
URL:https://business.grimesiowa.com/events/details/ankeny-signarama-yesco-des-moines-ribbon-cutting-1562
END:VEVENT

END:VCALENDAR
