BEGIN:VCALENDAR
VERSION:2.0
PRODID:-//ChamberMaster//Event Calendar 2.0//EN
METHOD:PUBLISH
X-PUBLISHED-TTL:P3D
REFRESH-INTERVAL:P3D
CALSCALE:GREGORIAN
BEGIN:VEVENT
DTSTART:20180830T213000Z
DTEND:20180830T223000Z
X-MICROSOFT-CDO-ALLDAYEVENT:FALSE
SUMMARY:Anytime Fitness Ground Breaking
DESCRIPTION:Please join us as we celebarte Anytime Fitness and their exciting new building. There will be a groundbreaking ceremony on Thursday August 30th.
X-ALT-DESC;FMTTYPE=text/html:Please join us as we celebarte Anytime Fitness and their exciting new building. There will be a groundbreaking ceremony on Thursday August 30th.&nbsp\;
LOCATION:Anytime Fitness 255 SW Brookside Drive (Near Mercy Clinic) Grimes\, IA 50111
UID:e.2636.1317
SEQUENCE:3
DTSTAMP:20260424T104150Z
URL:https://business.grimesiowa.com/events/details/anytime-fitness-ground-breaking-1317
END:VEVENT

END:VCALENDAR
