BEGIN:VCALENDAR
VERSION:2.0
PRODID:-//ChamberMaster//Event Calendar 2.0//EN
METHOD:PUBLISH
X-PUBLISHED-TTL:P3D
REFRESH-INTERVAL:P3D
CALSCALE:GREGORIAN
BEGIN:VEVENT
DTSTART:20180212T223000Z
DTEND:20180213T020000Z
X-MICROSOFT-CDO-ALLDAYEVENT:FALSE
SUMMARY:Appreciation/Retirement Party for Dini Anderlik
DESCRIPTION:Please join us to celebrate Dini's retirement and all of her accomplishments over the past 10 years. We will be bringing her back out of retirement for this evening to celebrate and check in on her! We would love for all of you to join us as you are able\, there will be appetizers and refreshments. Drop in and wish Dini well!
X-ALT-DESC;FMTTYPE=text/html:<span style="font-family:arial\;"><span style="font-size:14px\;"><span style="text-align: justify\; white-space: pre-wrap\; background-color: rgb(255\, 255\, 255)\;">Please join us to celebrate Dini&#39\;s retirement and all of her accomplishments over the past 10 years. We will be bringing her back out of retirement for this evening to celebrate and check in on her! We would love for all of you to join us as you are able\, there will be appetizers and refreshments. Drop in and wish Dini well! </span></span></span>
LOCATION:Trio Marketing 1830 Princeton Dr. St. C Grimes\, IA 50111
UID:e.2636.1274
SEQUENCE:3
DTSTAMP:20260424T203714Z
URL:https://business.grimesiowa.com/events/details/appreciation-retirement-party-for-dini-anderlik-1274
END:VEVENT

END:VCALENDAR
