BEGIN:VCALENDAR
VERSION:2.0
PRODID:-//ChamberMaster//Event Calendar 2.0//EN
METHOD:PUBLISH
X-PUBLISHED-TTL:P3D
REFRESH-INTERVAL:P3D
CALSCALE:GREGORIAN
BEGIN:VEVENT
DTSTART:20221026T210000Z
DTEND:20221026T220000Z
X-MICROSOFT-CDO-ALLDAYEVENT:FALSE
SUMMARY:ARC Electric Ribbon Cutting & Grand Opening!
DESCRIPTION:Join us in celebrating ARC Electric with a Ribbon Cutting! One of GCED's new members of 2022!! Let's celebrate their new office location in Grimes!\n\n\n\nFeel free to bring a friend\, co-worker or neighbor to this event! \n\n \n\nRefreshments will be served!
X-ALT-DESC;FMTTYPE=text/html:<p style="text-align: center\;"><span style="font-size:18px\;">Join us in celebrating ARC Electric with a Ribbon Cutting! One of GCED&#39\;s new members of 2022!! Let&#39\;s celebrate their new office location in Grimes!<br />\n<br />\nFeel free to bring a friend\, co-worker or neighbor to this event!&nbsp\;</span><br />\n&nbsp\;</p>\n\n<p style="text-align: center\;"><span style="font-size:18px\;">Refreshments will be served!</span></p>\n
LOCATION:ARC Electric 3430 SE Destination Dr. Ste 300 Grimes\, IA 50111
UID:e.2636.1727
SEQUENCE:3
DTSTAMP:20260419T163023Z
URL:https://business.grimesiowa.com/events/details/arc-electric-ribbon-cutting-grand-opening-1727
END:VEVENT

END:VCALENDAR
