BEGIN:VCALENDAR
VERSION:2.0
PRODID:-//ChamberMaster//Event Calendar 2.0//EN
METHOD:PUBLISH
X-PUBLISHED-TTL:P3D
REFRESH-INTERVAL:P3D
CALSCALE:GREGORIAN
BEGIN:VEVENT
DTSTART:20200820T170000Z
DTEND:20200820T183000Z
X-MICROSOFT-CDO-ALLDAYEVENT:FALSE
SUMMARY:August Expert Edge Lunch & Learn
DESCRIPTION:Each month Grimes Chamber & Economic Development gives its members the opportunity to meet for networking\, lunch and to learn about items of interest regarding Grimes and the Metro area. This month's Expert Edge we will be hearing from Christy Jones with R Jones Collision 1. Christy will be talking through Auto Body Repair: Myths\, Misconceptions and Safety Tips! \n\n\n\n*This Expert Edge is an item purchased through the Total Resource Campaign.*
X-ALT-DESC;FMTTYPE=text/html:Each month Grimes Chamber &amp\; Economic Development gives its members the opportunity to meet for networking\, lunch and to learn about items of interest regarding Grimes and the Metro area. This month&#39\;s Expert Edge we will be hearing from Christy Jones with R Jones Collision 1. Christy will be talking through&nbsp\;<span style="color:#1F497D\;"><span style="font-family:calibri\,sans-serif\;"><span style="font-size:11.0pt\;">Auto Body Repair: Myths\, Misconceptions and Safety Tips!&nbsp\;</span></span></span><br />\n<br />\n*This Expert Edge is an item purchased through the Total Resource Campaign.*&nbsp\;
LOCATION:Grimes Community Complex 410 SE Main Street Grimes\, IA 50111 Room 402
UID:e.2636.1531
SEQUENCE:3
DTSTAMP:20260423T042815Z
URL:https://business.grimesiowa.com/events/details/august-expert-edge-lunch-learn-1531
END:VEVENT

END:VCALENDAR
