BEGIN:VCALENDAR
VERSION:2.0
PRODID:-//ChamberMaster//Event Calendar 2.0//EN
METHOD:PUBLISH
X-PUBLISHED-TTL:P3D
REFRESH-INTERVAL:P3D
CALSCALE:GREGORIAN
BEGIN:VEVENT
DTSTART:20180524T213000Z
DTEND:20180524T233000Z
X-MICROSOFT-CDO-ALLDAYEVENT:FALSE
SUMMARY:B.I.G Back to Health Chiropractic
DESCRIPTION:Join us for a Luau Party at Back to Health Chiropractic for our May B.I.G! Tropical attire is encouraged\, but not required. There will be food\, fun\, beverages\, and prizes so don't miss out.
X-ALT-DESC;FMTTYPE=text/html:Join us for a Luau Party at Back to Health Chiropractic for our May B.I.G! Tropical attire is encouraged\, but not required. There will be food\, fun\, beverages\, and prizes so don&#39\;t miss out.
LOCATION:Back to Health Chiropractic 3000 SE Grimes Blvd. Suite 500 Grimes\, IA 50111
UID:e.2636.1292
SEQUENCE:3
DTSTAMP:20260424T144330Z
URL:https://business.grimesiowa.com/events/details/b-i-g-back-to-health-chiropractic-1292
END:VEVENT

END:VCALENDAR
