BEGIN:VCALENDAR
VERSION:2.0
PRODID:-//ChamberMaster//Event Calendar 2.0//EN
METHOD:PUBLISH
X-PUBLISHED-TTL:P3D
REFRESH-INTERVAL:P3D
CALSCALE:GREGORIAN
BEGIN:VEVENT
DTSTART:20180920T213000Z
DTEND:20180920T233000Z
X-MICROSOFT-CDO-ALLDAYEVENT:FALSE
SUMMARY:B.I.G Cabinets by Design
DESCRIPTION:Join us at Cabinets By Design for our September B.I.G! There will be food\, fun\, beverages\, and fun things to check out!
X-ALT-DESC;FMTTYPE=text/html:Join us at Cabinets By Design for our September B.I.G! There will be food\, fun\, beverages\, and fun things to check out!
LOCATION:Cabinets by Design 3350 SE Crossraods Drive Grimes\, IA 50111
UID:e.2636.1318
SEQUENCE:3
DTSTAMP:20260424T102515Z
URL:https://business.grimesiowa.com/events/details/b-i-g-cabinets-by-design-1318
END:VEVENT

END:VCALENDAR
