BEGIN:VCALENDAR
VERSION:2.0
PRODID:-//ChamberMaster//Event Calendar 2.0//EN
METHOD:PUBLISH
X-PUBLISHED-TTL:P3D
REFRESH-INTERVAL:P3D
CALSCALE:GREGORIAN
BEGIN:VEVENT
DTSTART:20180823T213000Z
DTEND:20180823T230000Z
X-MICROSOFT-CDO-ALLDAYEVENT:FALSE
SUMMARY:B.I.G Glenn Waterhouse State Farm Insurance
DESCRIPTION:You are cordially invited to the B.I.G sponsored by State Farm Insurance\; Glenn Waterhouse. Snacks\, drinks and a good time!
X-ALT-DESC;FMTTYPE=text/html:<span style="color: rgb(63\, 63\, 77)\; font-family: open_sansregular\, arial\, sans-serif\; font-size: 14px\;">You are cordially invited to the B.I.G sponsored by State Farm Insurance\; Glenn Waterhouse. Snacks\, drinks and a good time!</span>
LOCATION:5441 NW 86th Street Suite 100 Johnston\, IA 50131
UID:e.2636.1304
SEQUENCE:3
DTSTAMP:20260424T104324Z
URL:https://business.grimesiowa.com/events/details/b-i-g-glenn-waterhouse-state-farm-insurance-1304
END:VEVENT

END:VCALENDAR
