BEGIN:VCALENDAR
VERSION:2.0
PRODID:-//ChamberMaster//Event Calendar 2.0//EN
METHOD:PUBLISH
X-PUBLISHED-TTL:P3D
REFRESH-INTERVAL:P3D
CALSCALE:GREGORIAN
BEGIN:VEVENT
DTSTART:20180712T213000Z
DTEND:20180712T230000Z
X-MICROSOFT-CDO-ALLDAYEVENT:FALSE
SUMMARY:B.I.G GVSS
DESCRIPTION:You are cordially invited to the second B.I.G sponsored by GVSS. Come over and see where GVSS calls home and take a look at their history. There will be food\, drink and plenty of fellowship. Food prepared by Cooking by J!
X-ALT-DESC;FMTTYPE=text/html:<span style="color: rgb(63\, 63\, 77)\; font-family: open_sansregular\, arial\, sans-serif\; font-size: 14px\; background-color: rgb(255\, 255\, 255)\;">You are cordially invited to the second B.I.G sponsored by GVSS. Come over and see where GVSS calls home and take a look at their history. There will be food\, drink and plenty of fellowship. Food prepared by Cooking by J!</span>
LOCATION:Grimes Volunteer Support Services 404 SE 2nd St Grimes\, IA 50111
UID:e.2636.1297
SEQUENCE:3
DTSTAMP:20260424T115654Z
URL:https://business.grimesiowa.com/events/details/b-i-g-gvss-1297
END:VEVENT

END:VCALENDAR
