BEGIN:VCALENDAR
VERSION:2.0
PRODID:-//ChamberMaster//Event Calendar 2.0//EN
METHOD:PUBLISH
X-PUBLISHED-TTL:P3D
REFRESH-INTERVAL:P3D
CALSCALE:GREGORIAN
BEGIN:VEVENT
DTSTART:20200130T223000Z
DTEND:20200131T000000Z
X-MICROSOFT-CDO-ALLDAYEVENT:FALSE
SUMMARY:B.I.G Rainbow of the Heartland
DESCRIPTION:Join us for Rainbow of the Heartland's B.I.G after hours event and learn all about what Rainbow of the Heartland can offer you!
X-ALT-DESC;FMTTYPE=text/html:Join us for Rainbow of the Heartland&#39\;s B.I.G after hours event and learn all about what Rainbow of the Heartland can offer you!
LOCATION:Rainbow of the Heartland 3300 SE Crossroads Dr. Grimes\, IA 50111
UID:e.2636.1463
SEQUENCE:3
DTSTAMP:20260423T144236Z
URL:https://business.grimesiowa.com/events/details/b-i-g-rainbow-of-the-heartland-1463
END:VEVENT

END:VCALENDAR
