BEGIN:VCALENDAR
VERSION:2.0
PRODID:-//ChamberMaster//Event Calendar 2.0//EN
METHOD:PUBLISH
X-PUBLISHED-TTL:P3D
REFRESH-INTERVAL:P3D
CALSCALE:GREGORIAN
BEGIN:VEVENT
DTSTART:20180419T213000Z
DTEND:20180419T230000Z
X-MICROSOFT-CDO-ALLDAYEVENT:FALSE
SUMMARY:B.I.G Shade Tree Auto
DESCRIPTION:Please join us for B.I.G. (Business In Grimes) at Shade Tree Auto.  This will be a great time of networking\, fun\, food\, beverages and networking.  All GCED members and their guests are invited to attend.
X-ALT-DESC;FMTTYPE=text/html:<span style="background-color: rgb(255\, 255\, 255)\; color: rgb(63\, 63\, 77)\; font-family: open_sansregular\, arial\, sans-serif\; font-size: 14px\;">Please join us for&nbsp\;</span><span style="background: none rgb(255\, 255\, 255)\; bottom: auto\; box-sizing: content-box\; clear: none\; color: rgb(63\, 63\, 77)\; content: normal\; direction: inherit\; empty-cells: show\; font-variant-numeric: inherit\; font-variant-east-asian: inherit\; font-weight: bolder\; font-stretch: inherit\; font-size: 14px\; font-family: open_sansregular\, arial\, sans-serif\; left: auto\; line-height: inherit\; margin: 0px\; max-height: none\; max-width: none\; min-height: initial\; min-width: initial\; opacity: 1\; outline-offset: 0px\; overflow: visible\; padding: 0px\; position: static\; resize: none\; right: auto\; table-layout: auto\; text-overflow: clip\; top: auto\; vertical-align: baseline\; visibility: inherit\; word-break: inherit\; word-wrap: inherit\; z-index: auto\; border: none\; border-collapse: separate\; border-radius: 0px\; height: auto\; width: auto\; box-shadow: none\;">B.I.G.</span><span style="background-color: rgb(255\, 255\, 255)\; color: rgb(63\, 63\, 77)\; font-family: open_sansregular\, arial\, sans-serif\; font-size: 14px\;">&nbsp\;</span><span style="background: none rgb(255\, 255\, 255)\; bottom: auto\; box-sizing: content-box\; clear: none\; color: rgb(63\, 63\, 77)\; content: normal\; direction: inherit\; empty-cells: show\; font-variant-numeric: inherit\; font-variant-east-asian: inherit\; font-weight: bolder\; font-stretch: inherit\; font-size: 14px\; font-family: open_sansregular\, arial\, sans-serif\; left: auto\; line-height: inherit\; margin: 0px\; max-height: none\; max-width: none\; min-height: initial\; min-width: initial\; opacity: 1\; outline-offset: 0px\; overflow: visible\; padding: 0px\; position: static\; resize: none\; right: auto\; table-layout: auto\; text-overflow: clip\; top: auto\; vertical-align: baseline\; visibility: inherit\; word-break: inherit\; word-wrap: inherit\; z-index: auto\; border: none\; border-collapse: separate\; border-radius: 0px\; height: auto\; width: auto\; box-shadow: none\;">(Business In Grimes)</span><span style="background-color: rgb(255\, 255\, 255)\; color: rgb(63\, 63\, 77)\; font-family: open_sansregular\, arial\, sans-serif\; font-size: 14px\;">&nbsp\;at Shade Tree Auto.&nbsp\; This will be a great time of networking\, fun\, food\, beverages and networking.&nbsp\;</span><span style="background-color: rgb(255\, 255\, 255)\; color: rgb(63\, 63\, 77)\; font-family: open_sansregular\, arial\, sans-serif\; font-size: 14px\;">&nbsp\;All&nbsp\;GCED&nbsp\;members and their guests are invited to attend.</span>
LOCATION:Shade Tree Auto 1750 SE 11th St Grimes\, IA 50111
UID:e.2636.1285
SEQUENCE:3
DTSTAMP:20260424T160504Z
URL:https://business.grimesiowa.com/events/details/b-i-g-shade-tree-auto-1285
END:VEVENT

END:VCALENDAR
