BEGIN:VCALENDAR
VERSION:2.0
PRODID:-//ChamberMaster//Event Calendar 2.0//EN
METHOD:PUBLISH
X-PUBLISHED-TTL:P3D
REFRESH-INTERVAL:P3D
CALSCALE:GREGORIAN
BEGIN:VEVENT
DTSTART:20180914T170000Z
DTEND:20180914T180000Z
X-MICROSOFT-CDO-ALLDAYEVENT:FALSE
SUMMARY:BYOL TRC Information Session
DESCRIPTION:Join us at the Grimes Chamber & Economic Development Office to discuss all things TRC in this information session.
X-ALT-DESC;FMTTYPE=text/html:Join us at the Grimes Chamber &amp\; Economic Development Office to discuss all things TRC in this information session.
LOCATION:@GCED Board Room
UID:e.2636.1320
SEQUENCE:3
DTSTAMP:20260424T090918Z
URL:https://business.grimesiowa.com/events/details/byol-trc-information-session-1320
END:VEVENT

END:VCALENDAR
