BEGIN:VCALENDAR
VERSION:2.0
PRODID:-//ChamberMaster//Event Calendar 2.0//EN
METHOD:PUBLISH
X-PUBLISHED-TTL:P3D
REFRESH-INTERVAL:P3D
CALSCALE:GREGORIAN
BEGIN:VEVENT
DTSTART:20221006T210000Z
DTEND:20221007T000000Z
X-MICROSOFT-CDO-ALLDAYEVENT:FALSE
SUMMARY:Cabinets by Design 10 Year Open House!
DESCRIPTION:Please join us for Cabinets by Design's Open House celebrating 10 Years in Business!\n\n\n\nAttend for your chance to win a Solo Stove Bonfire 2.0 and more!\n\nBeverages & Hors D'oeuvres! \n\n\n\nThursday\, October 6th\n\n4pm - 7pm
X-ALT-DESC;FMTTYPE=text/html:Please join us for Cabinets by Design&#39\;s Open House celebrating 10 Years in Business!<br />\n<br />\nAttend for your chance to win a Solo Stove Bonfire 2.0 and more!<br />\nBeverages &amp\; Hors D&#39\;oeuvres!&nbsp\;<br />\n<br />\nThursday\, October 6th<br />\n4pm - 7pm
LOCATION:3350 SE Crossroads Drive Grimes\, IA 50111
UID:e.2636.1726
SEQUENCE:3
DTSTAMP:20260419T162944Z
URL:https://business.grimesiowa.com/events/details/cabinets-by-design-10-year-open-house-1726
END:VEVENT

END:VCALENDAR
