BEGIN:VCALENDAR
VERSION:2.0
PRODID:-//ChamberMaster//Event Calendar 2.0//EN
METHOD:PUBLISH
X-PUBLISHED-TTL:P3D
REFRESH-INTERVAL:P3D
CALSCALE:GREGORIAN
BEGIN:VEVENT
DTSTART;VALUE=DATE:20200611
DTEND;VALUE=DATE:20200614
TRANSP:TRANSPARENT
X-MICROSOFT-CDO-ALLDAYEVENT:TRUE
SUMMARY:CANCELLED\; Governors Days Vendor Registration
DESCRIPTION:Grimes Chamber & Economic Development regretfully announces that Grimes Governors Days (www.GovernorsDays.com)\, a celebration of community\, has been cancelled.  The decision to cancel the event\, originally scheduled to take place June 11-13\, 2020\, was made in order to protect the well-being of event volunteers and attendees during the COVID-19 pandemic.  \n\n \n\nGrimes Governors Days is an annual event that is organized by Grimes Chamber & Economic Development in coordination with the Governors Days Committee and with the support of dozens of local Chamber Member sponsors and the City of Grimes.  The event typically consists of live music\, a large entertainment garden\, Sam's Amusements Carnival\, the Athletico 5k/Fun Run\, the MS Moments Bags Tournament\, multiple parades\, food and craft vendors\, Friends of the Grimes Public Library Bingo\, the Lions Club Pancake Breakfast\, the City State Bank Ice Cream Social\, and many other events.
X-ALT-DESC;FMTTYPE=text/html:<p align="justify" style="font-family: open_sansregular\, arial\, sans-serif\; color: rgb(63\, 63\, 77)\; line-height: inherit\; font-size: 14px\; margin: 1em 0px\; bottom: auto\; box-sizing: content-box\; clear: none\; content: normal\; direction: inherit\; empty-cells: show\; float: none\; font-variant-numeric: inherit\; font-stretch: inherit\; left: auto\; max-height: none\; max-width: none\; min-height: initial\; min-width: initial\; opacity: 1\; outline-offset: 0px\; overflow: visible\; padding: 0px\; position: static\; resize: none\; right: auto\; table-layout: auto\; text-overflow: clip\; top: auto\; vertical-align: baseline\; visibility: inherit\; word-break: inherit\; word-wrap: inherit\; z-index: auto\; background: none rgb(255\, 255\, 255)\; border: none\; border-collapse: separate\; border-radius: 0px\; height: auto\; width: auto\; box-shadow: none\;"><span style="font-size:12.0pt\;">Grimes Chamber &amp\; Economic Development regretfully announces that Grimes Governors Days (</span><a href="http://www.GovernorsDays.com"><span style="font-size:12.0pt\;">www.GovernorsDays.com</span></a><span style="font-size:12.0pt\;">)\, a celebration of community\, has been cancelled.&nbsp\; The decision to cancel the event\, originally scheduled to take place June 11-13\, 2020\, was made in order to protect the well-being of event volunteers and attendees during the COVID-19 pandemic.&nbsp\; </span><br />\n&nbsp\;<br />\n<span style="font-size:12.0pt\;">Grimes Governors Days is an annual event that is organized by Grimes Chamber &amp\; Economic Development in coordination with the Governors Days Committee and with the support of dozens of local Chamber Member sponsors and the City of Grimes.&nbsp\; The event typically consists of live music\, a large entertainment garden\, Sam&rsquo\;s Amusements Carnival\, the Athletico 5k/Fun Run\, the MS Moments Bags Tournament\, multiple parades\, food and craft vendors\, Friends of the Grimes Public Library Bingo\, the Lions Club Pancake Breakfast\, the City State Bank Ice Cream Social\, and many other events.&nbsp\; </span></p>\n
LOCATION:Governors Days is a celebration that takes place throughout the community. However\, most activity is in or near Grimes Waterworks Park\, located at 200 N James Street\, Grimes\, Iowa.
UID:e.2636.1558
SEQUENCE:3
DTSTAMP:20260423T055529Z
URL:https://business.grimesiowa.com/events/details/cancelled-governors-days-vendor-registration-1558
END:VEVENT

END:VCALENDAR
