BEGIN:VCALENDAR
VERSION:2.0
PRODID:-//ChamberMaster//Event Calendar 2.0//EN
METHOD:PUBLISH
X-PUBLISHED-TTL:P3D
REFRESH-INTERVAL:P3D
CALSCALE:GREGORIAN
BEGIN:VEVENT
DTSTART:20200418T143000Z
DTEND:20200418T153000Z
X-MICROSOFT-CDO-ALLDAYEVENT:FALSE
SUMMARY:CANCELLED\; Political Open Forum - April
DESCRIPTION:This event has been CANCELLED to follow the guidelines. \n\nJoin us for a Political Open Forum featuring Senator Brad Zaun & Supervisor Bob Brownell & Representative Karin Derry. Enjoy this opportunity to meet your local representatives! Come with your questions.
X-ALT-DESC;FMTTYPE=text/html:This event has been CANCELLED to follow the guidelines.&nbsp\;<br />\nJoin us for a Political Open Forum featuring Senator Brad Zaun &amp\; Supervisor Bob Brownell &amp\; Representative Karin Derry. Enjoy this opportunity to meet your local representatives! Come with your questions.
LOCATION:
UID:e.2636.1554
SEQUENCE:3
DTSTAMP:20260423T084346Z
URL:https://business.grimesiowa.com/events/details/cancelled-political-open-forum-april-1554
END:VEVENT

END:VCALENDAR
