BEGIN:VCALENDAR
VERSION:2.0
PRODID:-//ChamberMaster//Event Calendar 2.0//EN
METHOD:PUBLISH
X-PUBLISHED-TTL:P3D
REFRESH-INTERVAL:P3D
CALSCALE:GREGORIAN
BEGIN:VEVENT
DTSTART:20200423T213000Z
DTEND:20200423T230000Z
X-MICROSOFT-CDO-ALLDAYEVENT:FALSE
SUMMARY:CANCELLED\; Shade Tree Auto B.I.G
DESCRIPTION:CANCELLED
X-ALT-DESC;FMTTYPE=text/html:<font color="#3f3f4d" face="open_sansregular\, arial\, sans-serif"><span style="font-size: 14px\;">CANCELLED</span></font>
LOCATION:CANCELLED
UID:e.2636.1494
SEQUENCE:3
DTSTAMP:20260423T084226Z
URL:https://business.grimesiowa.com/events/details/cancelled-shade-tree-auto-b-i-g-1494
END:VEVENT

END:VCALENDAR
