BEGIN:VCALENDAR
VERSION:2.0
PRODID:-//ChamberMaster//Event Calendar 2.0//EN
METHOD:PUBLISH
X-PUBLISHED-TTL:P3D
REFRESH-INTERVAL:P3D
CALSCALE:GREGORIAN
BEGIN:VEVENT
DTSTART:20211019T223000Z
DTEND:20211020T000000Z
X-MICROSOFT-CDO-ALLDAYEVENT:FALSE
SUMMARY:Candidates Forum 2021
DESCRIPTION:Video Here: https://www.youtube.com/watch?v=Dwzo20xqj_I&t=5330s\n\n\n\n2021 Candidates Forum will be taking place at the Grimes Community Complex in the Banquet Hall from 5:30pm - 7:00pm\n\n\n\nAll Registered Candidates Running have been invited.\n\n\n\nGrimes Mayor:\n\nScott D. Mikkelsen (Incumbent)\n\nAllen D. May\n\n\n\nGrimes City Council: (3 Seats)\n\nNicholas Darrah\n\nLaurie DePhillips\n\nJoseph Herman\n\nRyan A. Burger (Incumbent)\n\nDavid Gisch (Incumbent)\n\nJennifer Parker
X-ALT-DESC;FMTTYPE=text/html:<span style="font-size:14px\;"><span style="font-family:arial\;">Video Here:&nbsp\;</span></span>https://www.youtube.com/watch?v=Dwzo20xqj_I&amp\;t=5330s<br />\n<br />\n<span style="font-size:14px\;"><span style="font-family:arial\;">2021 Candidates Forum will be taking place at the Grimes Community Complex in the Banquet Hall from 5:30pm - 7:00pm<br />\n<br />\nAll Registered Candidates Running have been invited.<br />\n<br />\n<strong>Grimes Mayor:</strong><br />\nScott D. Mikkelsen (Incumbent)<br />\nAllen D. May<br />\n<br />\n<strong>Grimes City Council: (3 Seats)</strong><br />\nNicholas Darrah<br />\nLaurie DePhillips<br />\nJoseph Herman<br />\nRyan A. Burger (Incumbent)<br />\nDavid Gisch (Incumbent)<br />\nJennifer Parker</span></span>
LOCATION:Grimes Community Complex Banquet Hall 410 SE Main St. Grimes\, IA 50111
UID:e.2636.1647
SEQUENCE:3
DTSTAMP:20260420T084813Z
URL:https://business.grimesiowa.com/events/details/candidates-forum-2021-1647
END:VEVENT

END:VCALENDAR
