BEGIN:VCALENDAR
VERSION:2.0
PRODID:-//ChamberMaster//Event Calendar 2.0//EN
METHOD:PUBLISH
X-PUBLISHED-TTL:P3D
REFRESH-INTERVAL:P3D
CALSCALE:GREGORIAN
BEGIN:VEVENT
DTSTART:20160714T220000Z
DTEND:20160715T030000Z
X-MICROSOFT-CDO-ALLDAYEVENT:FALSE
SUMMARY:Chamber Night @ Iowa Cubs
DESCRIPTION:Please join all of the Affiliate Chambers at the annual Chamber Night at the Iowa Cubs.  Pre-game tailgate party in the southwest corner of Principal Park parking lot with brats\, hot dogs\, chips\, dessert and soda on a first come\, first serve basis.  Seating is general admission
X-ALT-DESC;FMTTYPE=text/html:Please join all of the Affiliate Chambers at the annual Chamber Night at the Iowa Cubs. &nbsp\;Pre-game tailgate party in the southwest corner of Principal Park parking lot with brats\, hot dogs\, chips\, dessert and soda on a first come\, first serve basis. &nbsp\;Seating is general admission
LOCATION:Principal Park 1 Line Drive Downtown Des Moines\, Iowa
UID:e.2636.15
SEQUENCE:3
DTSTAMP:20260425T220624Z
URL:https://business.grimesiowa.com/events/details/chamber-night-iowa-cubs-07-14-2016-15
END:VEVENT

END:VCALENDAR
