BEGIN:VCALENDAR
VERSION:2.0
PRODID:-//ChamberMaster//Event Calendar 2.0//EN
METHOD:PUBLISH
X-PUBLISHED-TTL:P3D
REFRESH-INTERVAL:P3D
CALSCALE:GREGORIAN
BEGIN:VEVENT
DTSTART;VALUE=DATE:20211224
DTEND;VALUE=DATE:20211225
TRANSP:TRANSPARENT
X-MICROSOFT-CDO-ALLDAYEVENT:TRUE
SUMMARY:Christmas Eve - Office Closed
DESCRIPTION:The GCED office will be closed today to celebrate the Holidays with our friends and family! Have a great Holiday\, everyone!
X-ALT-DESC;FMTTYPE=text/html:The GCED office will be closed today to celebrate the Holidays with our friends and family! Have a great Holiday\, everyone!
LOCATION:
UID:e.2636.1656
SEQUENCE:3
DTSTAMP:20260420T062059Z
URL:https://business.grimesiowa.com/events/details/christmas-eve-office-closed-12-24-2021-1656
END:VEVENT

END:VCALENDAR
