BEGIN:VCALENDAR
VERSION:2.0
PRODID:-//ChamberMaster//Event Calendar 2.0//EN
METHOD:PUBLISH
X-PUBLISHED-TTL:P3D
REFRESH-INTERVAL:P3D
CALSCALE:GREGORIAN
BEGIN:VEVENT
DTSTART:20171025T223000Z
DTEND:20171025T234500Z
X-MICROSOFT-CDO-ALLDAYEVENT:FALSE
SUMMARY:City of Grimes Candidates Forum
DESCRIPTION:Grimes Chamber & Economic Development will be hosting a forum to allow officially declared candidates seeking the office of Mayor or Grimes City Council to share their viewpoints on City issues impacting the community of Grimes. \n\n\n\nMembers of Grimes Chamber & Economic Development will have the opportunity to submit questions in advance of the event and some questions will be taken by those in attendance at the forum.  The forum will be be held in Council Chambers at Grimes City Hall (101 NE Harvey Street\, Grimes\, Iowa).  This event\, while hosted by the Chamber\, is open to the public.
X-ALT-DESC;FMTTYPE=text/html:Grimes Chamber &amp\; Economic Development will be hosting a forum to allow officially declared candidates seeking the office of Mayor or Grimes City Council to share their viewpoints on City issues impacting the community of Grimes.&nbsp\;<br />\n<br />\nMembers of Grimes Chamber &amp\; Economic Development will have the opportunity to submit questions in advance of the event and some questions will be taken by those in attendance at the forum.&nbsp\; The forum will be be held in Council Chambers at Grimes City Hall (101 NE Harvey Street\, Grimes\, Iowa).&nbsp\; This event\, while hosted by the Chamber\, is open to the public.<br />\n&nbsp\;
LOCATION:Grimes City Hall City Council Chambers 101 NE Harvey Street Grimes\, Iowa 50111
UID:e.2636.233
SEQUENCE:3
DTSTAMP:20260425T005410Z
URL:https://business.grimesiowa.com/events/details/city-of-grimes-candidates-forum-233
END:VEVENT

END:VCALENDAR
