BEGIN:VCALENDAR
VERSION:2.0
PRODID:-//ChamberMaster//Event Calendar 2.0//EN
METHOD:PUBLISH
X-PUBLISHED-TTL:P3D
REFRESH-INTERVAL:P3D
CALSCALE:GREGORIAN
BEGIN:VEVENT
DTSTART:20180517T180000Z
DTEND:20180517T190000Z
X-MICROSOFT-CDO-ALLDAYEVENT:FALSE
SUMMARY:Daimler Truck Parts North America Ribbon Cutting Ceremony
DESCRIPTION:Join us as we cut the Ribbon with  Daimler Truck Parts North America. They are all settled into their new building and it is time to celebrate!
X-ALT-DESC;FMTTYPE=text/html:Join us as we cut the Ribbon with&nbsp\;&nbsp\;Daimler&nbsp\;Truck Parts North America. They are all settled into their new building and it is time to celebrate!&nbsp\;
LOCATION:Daimler Truck Parts North America 100 SE 19th Street Grimes\, Iowa In the Anderson Properties' Legacy Business Park.
UID:e.2636.1293
SEQUENCE:3
DTSTAMP:20260424T144606Z
URL:https://business.grimesiowa.com/events/details/daimler-truck-parts-north-america-ribbon-cutting-ceremony-1293
END:VEVENT

END:VCALENDAR
