BEGIN:VCALENDAR
VERSION:2.0
PRODID:-//ChamberMaster//Event Calendar 2.0//EN
METHOD:PUBLISH
X-PUBLISHED-TTL:P3D
REFRESH-INTERVAL:P3D
CALSCALE:GREGORIAN
BEGIN:VEVENT
DTSTART:20180216T133000Z
DTEND:20180216T150000Z
X-MICROSOFT-CDO-ALLDAYEVENT:FALSE
SUMMARY:DC-G Education Foundation Breakfast
DESCRIPTION:The Dallas Center-Grimes Education Foundation provides funding for education opportunities to students\, staff\, faculty or residents of the Dallas Center- Grimes School District. Join us and hear from Alan Feirer with Group Dynamic on Leading by Influence. This will be a fantastic event that you will not want to miss!
X-ALT-DESC;FMTTYPE=text/html:The Dallas Center-Grimes Education Foundation provides funding for education opportunities&nbsp\;to students\, staff\, faculty or residents of the Dallas&nbsp\;Center- Grimes School District. Join us and hear from Alan Feirer with Group Dynamic on Leading by Influence. This will be a fantastic event that you will not want to miss!&nbsp\;
LOCATION:Grimes Community Complex 410 SE Main St Grimes\, IA 50111
UID:e.2636.1275
SEQUENCE:3
DTSTAMP:20260424T190811Z
URL:https://business.grimesiowa.com/events/details/dc-g-education-foundation-breakfast-1275
END:VEVENT

END:VCALENDAR
