BEGIN:VCALENDAR
VERSION:2.0
PRODID:-//ChamberMaster//Event Calendar 2.0//EN
METHOD:PUBLISH
X-PUBLISHED-TTL:P3D
REFRESH-INTERVAL:P3D
CALSCALE:GREGORIAN
BEGIN:VEVENT
DTSTART:20180531T213000Z
DTEND:20180531T223000Z
X-MICROSOFT-CDO-ALLDAYEVENT:FALSE
SUMMARY:Emerge Academy Ribbon Cutting Ceremony
DESCRIPTION:Come and join us to celebrate the Grand Opening of Emerge Academy! Meet the owner\, American Ninja Warrior 2018 Las Vegas Finalist and former elite gymnast and 2017 Iowa Junior Olympic Boys Coach of the Year\, Spencer Johnson. Tour the amazing new gym and try some events and/or obstacles! \n\n\n\nEmerge Academy will offer pre-school gymnastics\, recreational gymnastics\, Xcel gymnastics\, Junior Olympic Boys gymnastics\, fitness and strength training\, recreational Ninja classes\, team Ninja classes\, and adult Ninja classes. \n\n\n\nThere will be food available as well as goody bags and drawings for prizes!
X-ALT-DESC;FMTTYPE=text/html:<span style="color: rgb(75\, 79\, 86)\; font-family: Helvetica\, Arial\, sans-serif\; font-size: 14px\; background-color: rgb(255\, 255\, 255)\;">Come and join us to celebrate the Grand Opening of Emerge Academy! Meet the owner\, American Ninja Warrior 2018 Las Vegas Finalist and former elite gymnast and 2017 Iowa Junior Olympic Boys Coach of the Year\, Spencer Johnson. Tour the amazing new gym and try some events and/or obstacles!&nbsp\;</span><br style="color: rgb(75\, 79\, 86)\; font-family: Helvetica\, Arial\, sans-serif\; font-size: 14px\; background-color: rgb(255\, 255\, 255)\;" />\n<br style="color: rgb(75\, 79\, 86)\; font-family: Helvetica\, Arial\, sans-serif\; font-size: 14px\; background-color: rgb(255\, 255\, 255)\;" />\n<span style="color: rgb(75\, 79\, 86)\; font-family: Helvetica\, Arial\, sans-serif\; font-size: 14px\; background-color: rgb(255\, 255\, 255)\;">Emerge Academy will offer pre-school gymnastics\, recreational gymnastics\, Xcel gymnastics\, Junior Olympic Boys gymnastics\, fitness and strength training\, recreational Ninja classes\, team Ninja classes\, and adult Ninja classes.&nbsp\;</span><br style="color: rgb(75\, 79\, 86)\; font-family: Helvetica\, Arial\, sans-serif\; font-size: 14px\; background-color: rgb(255\, 255\, 255)\;" />\n<br style="color: rgb(75\, 79\, 86)\; font-family: Helvetica\, Arial\, sans-serif\; font-size: 14px\; background-color: rgb(255\, 255\, 255)\;" />\n<span style="color: rgb(75\, 79\, 86)\; font-family: Helvetica\, Arial\, sans-serif\; font-size: 14px\; background-color: rgb(255\, 255\, 255)\;">There will be food available as well as goody bags and drawings for prizes!</span>
LOCATION:Emerge Academy 2100 SE Gateway Drive Grimes\, IA 50111
UID:e.2636.1294
SEQUENCE:3
DTSTAMP:20260424T160714Z
URL:https://business.grimesiowa.com/events/details/emerge-academy-ribbon-cutting-ceremony-1294
END:VEVENT

END:VCALENDAR
