BEGIN:VCALENDAR
VERSION:2.0
PRODID:-//ChamberMaster//Event Calendar 2.0//EN
METHOD:PUBLISH
X-PUBLISHED-TTL:P3D
REFRESH-INTERVAL:P3D
CALSCALE:GREGORIAN
BEGIN:VEVENT
DTSTART:20160405T213000Z
DTEND:20160406T000000Z
X-MICROSOFT-CDO-ALLDAYEVENT:FALSE
SUMMARY:Experience Grimes\; A Tasteful Business Expo
DESCRIPTION:You and your family are invited to the 6th Annual Exprience Grimes\; A Tasteful Business Expo on Tuesday\, April 5th.  Come and see for yourself the great businesses and opportunities that are available in Grimes.  Door prizes awarded every 15 minutes.  Grand prizes include an XBox One donated by Wal-Mart and a Bose Wireless Speaker donated by Affordable Fencing.
X-ALT-DESC;FMTTYPE=text/html:<p>You and your family are invited to the 6th Annual <u><em><strong>Exprience Grimes\; A Tasteful Business Expo </strong></em></u>on Tuesday\, April 5th. &nbsp\;Come and see for yourself the great businesses and opportunities that are available in Grimes. &nbsp\;Door prizes awarded every 15 minutes. &nbsp\;Grand prizes include an&nbsp\;<strong>XBox One</strong> donated by <strong>Wal-Mart</strong> and a&nbsp\;<strong>Bose Wireless Speaker</strong> donated by <strong>Affordable Fencing. </strong>&nbsp\;</p>\n
LOCATION:Performance Display 1400 SE 11th St Grimes\, IA 50111
UID:e.2636.3
SEQUENCE:3
DTSTAMP:20260426T023447Z
URL:https://business.grimesiowa.com/events/details/experience-grimes-a-tasteful-business-expo-04-05-2016-3
END:VEVENT

END:VCALENDAR
