BEGIN:VCALENDAR
VERSION:2.0
PRODID:-//ChamberMaster//Event Calendar 2.0//EN
METHOD:PUBLISH
X-PUBLISHED-TTL:P3D
REFRESH-INTERVAL:P3D
CALSCALE:GREGORIAN
BEGIN:VEVENT
DTSTART:20180327T213000Z
DTEND:20180328T000000Z
X-MICROSOFT-CDO-ALLDAYEVENT:FALSE
SUMMARY:Experience Grimes: A Tasteful Business Expo 2018
DESCRIPTION:You and your family are invited to the 8th Annual Exprience Grimes\; A Tasteful Business Expo on Tuesday\, March 27th.  Come and see for yourself the great businesses and opportunities that are available in Grimes.  Door prizes awarded every 15 minutes.\n\n\n\nA HUGE thank you to all of our sponsors. This would not be possible without all of you!\n\n\n\nPresenting Sponsor: Shade Tree Auto\n\nFace Painting Sponsor: Prairie View Animal
X-ALT-DESC;FMTTYPE=text/html:You and your family are invited to the 8th Annual <u><em><strong>Exprience Grimes\; A Tasteful Business Expo </strong></em></u>on Tuesday\, March 27th. &nbsp\;Come and see for yourself the great businesses and opportunities that are available in Grimes. &nbsp\;Door prizes awarded every 15 minutes.<br />\n<br />\n<span style="color: rgb(63\, 63\, 77)\; font-family: open_sansregular\, arial\, sans-serif\; font-size: 14px\; background-color: rgb(255\, 255\, 255)\;">A HUGE thank you to all of our sponsors. This would not be possible without all of you!<br />\n<br />\nPresenting Sponsor: Shade Tree Auto<br />\nFace Painting Sponsor: Prairie View Animal&nbsp\;</span><br />\n<br />\n&nbsp\;
LOCATION:Performance Display 1400 SE 11th St Grimes\, IA 50111
UID:e.2636.240
SEQUENCE:3
DTSTAMP:20260424T173812Z
URL:https://business.grimesiowa.com/events/details/experience-grimes-a-tasteful-business-expo-2018-240
END:VEVENT

END:VCALENDAR
