BEGIN:VCALENDAR
VERSION:2.0
PRODID:-//ChamberMaster//Event Calendar 2.0//EN
METHOD:PUBLISH
X-PUBLISHED-TTL:P3D
REFRESH-INTERVAL:P3D
CALSCALE:GREGORIAN
BEGIN:VEVENT
DTSTART:20170328T213000Z
DTEND:20170329T000000Z
X-MICROSOFT-CDO-ALLDAYEVENT:FALSE
SUMMARY:Experience Grimes\; A Tasteful Business Expo
DESCRIPTION:You and your family are invited to the 7th Annual Exprience Grimes\; A Tasteful Business Expo on Tuesday\, March 28th.  Come and see for yourself the great businesses and opportunities that are available in Grimes.  Door prizes awarded every 15 minutes.  The Grand Prize will be an XBox One donated by Wal-Mart.
X-ALT-DESC;FMTTYPE=text/html:<p>You and your family are invited to the 7th Annual <u><em><strong>Exprience Grimes\; A Tasteful Business Expo </strong></em></u>on Tuesday\, March 28th. &nbsp\;Come and see for yourself the great businesses and opportunities that are available in Grimes. &nbsp\;Door prizes awarded every 15 minutes. &nbsp\;The Grand Prize will be&nbsp\;an&nbsp\;<strong>XBox One</strong> donated by <strong>Wal-Mart.</strong></p>\n
LOCATION:Performance Display 1400 SE 11th St Grimes\, IA 50111
UID:e.2636.56
SEQUENCE:3
DTSTAMP:20260425T102146Z
URL:https://business.grimesiowa.com/events/details/experience-grimes-a-tasteful-business-expo-56
END:VEVENT

END:VCALENDAR
