BEGIN:VCALENDAR
VERSION:2.0
PRODID:-//ChamberMaster//Event Calendar 2.0//EN
METHOD:PUBLISH
X-PUBLISHED-TTL:P3D
REFRESH-INTERVAL:P3D
CALSCALE:GREGORIAN
BEGIN:VEVENT
DTSTART:20180816T163000Z
DTEND:20180816T180000Z
X-MICROSOFT-CDO-ALLDAYEVENT:FALSE
SUMMARY:First Responders Appreciation Luncheon
DESCRIPTION:Join us for our first annual First Responders Appreciation Luncheon celebrating the courageous acts of both our Fire & Law enforcement! Lunch will be provided.
X-ALT-DESC;FMTTYPE=text/html:Join us for our first annual First Responders Appreciation Luncheon celebrating the courageous acts of both our Fire &amp\; Law enforcement! Lunch will be provided.&nbsp\;
LOCATION:Grimes Community Complex Banquet Hall 410 SE Main St. Grimes\, IA 50111
UID:e.2636.1306
SEQUENCE:3
DTSTAMP:20260424T114118Z
URL:https://business.grimesiowa.com/events/details/first-responders-appreciation-luncheon-1306
END:VEVENT

END:VCALENDAR
