BEGIN:VCALENDAR
VERSION:2.0
PRODID:-//ChamberMaster//Event Calendar 2.0//EN
METHOD:PUBLISH
X-PUBLISHED-TTL:P3D
REFRESH-INTERVAL:P3D
CALSCALE:GREGORIAN
BEGIN:VEVENT
DTSTART:20220820T043000Z
DTEND:20220819T180000Z
X-MICROSOFT-CDO-ALLDAYEVENT:FALSE
SUMMARY:First Responders Appreciation Luncheon!
DESCRIPTION:Fifth Annual First Responders Appreciation Luncheon celebrating the courageous acts of both our Fire & Law enforcement within the Grimes and Surrounding Communities!\n\n\n\nIndividual Seats: $25\n\n\n\nPresenting Sponsor: NorthPoint Church\n\nBlue Line Sponsor: Abaci Consulting\, Inc\, Golden Rule PH&C\n\nRed Line Sponsor: United Services of Des Moines\, Inc\n\nCenterpiece Sponsor: Azcon Inc. Construction\, Redwood Grimes\n\nCorporate Table Sponsors: VisionBank\, Unity Point Clinic Grimes\, Bankers Trust\, Black Hills Energy\, GVSS\n\nThank You Bag Sponsor: Back to Health Chiropractic\, Grimes Dental Group\, Cooking by J Personal Chef Service\, Redwood Grimes\, Farrell's Extreme Bodyshaping
X-ALT-DESC;FMTTYPE=text/html:<span style="color: rgb(85\, 85\, 85)\; font-family: Montserrat\, sans-serif\; font-size: 16px\; text-align: center\;">Fifth Annual First Responders Appreciation Luncheon celebrating the courageous acts of both our Fire &amp\; Law enforcement within the Grimes and Surrounding Communities!</span><br style="box-sizing: border-box\; color: rgb(85\, 85\, 85)\; font-family: Montserrat\, sans-serif\; font-size: 16px\; text-align: center\;" />\n<br style="box-sizing: border-box\; color: rgb(85\, 85\, 85)\; font-family: Montserrat\, sans-serif\; font-size: 16px\; text-align: center\;" />\n<span style="color: rgb(85\, 85\, 85)\; font-family: Montserrat\, sans-serif\; font-size: 16px\; text-align: center\;">Individual Seats: $25<br />\n<br />\n<span style="font-size:20px\;"><strong>Presenting Sponsor: NorthPoint Church<br />\n<span style="font-size:16px\;">Blue Line Sponsor: Abaci Consulting\, Inc\, Golden Rule PH&amp\;C<br />\nRed Line Sponsor: United Services of Des Moines\, Inc<br />\nCenterpiece Sponsor: Azcon Inc. Construction\, Redwood Grimes<br />\nCorporate Table Sponsors: VisionBank\, Unity Point Clinic Grimes\, Bankers Trust\, Black Hills Energy\, GVSS<br />\nThank You Bag Sponsor: Back to Health Chiropractic\, Grimes Dental Group\, Cooking by J Personal Chef Service\, Redwood Grimes\, Farrell&#39\;s Extreme Bodyshaping</span></strong></span></span>
LOCATION:Grimes Community Complex Banquet Hall 410 SE Main St. Grimes\, IA 50111
UID:e.2636.1677
SEQUENCE:3
DTSTAMP:20260419T205042Z
URL:https://business.grimesiowa.com/events/details/first-responders-appreciation-luncheon-1677
END:VEVENT

END:VCALENDAR
