BEGIN:VCALENDAR
VERSION:2.0
PRODID:-//ChamberMaster//Event Calendar 2.0//EN
METHOD:PUBLISH
X-PUBLISHED-TTL:P3D
REFRESH-INTERVAL:P3D
CALSCALE:GREGORIAN
BEGIN:VEVENT
DTSTART:20180804T000000Z
DTEND:20180804T030000Z
X-MICROSOFT-CDO-ALLDAYEVENT:FALSE
SUMMARY:Free Movie Friday
DESCRIPTION:Free Family Entertainment on Main Street! \n\n\n\nBring your Lawn Chairs! We'll be showing CARS! on the massive 19' x 39' inflatable screen!\n\n\n\nFood and Beverages will be for sale! Pre-movie fun will begin at 7PM. Movie Starts at dusk or whenever it gets dark enough!
X-ALT-DESC;FMTTYPE=text/html:<span style="color: rgb(29\, 33\, 41)\; font-family: Helvetica\, Arial\, sans-serif\; font-size: 14px\; background-color: rgb(255\, 255\, 255)\;">Free Family Entertainment on Main Street!&nbsp\;</span><br style="color: rgb(29\, 33\, 41)\; font-family: Helvetica\, Arial\, sans-serif\; font-size: 14px\; background-color: rgb(255\, 255\, 255)\;" />\n<br style="color: rgb(29\, 33\, 41)\; font-family: Helvetica\, Arial\, sans-serif\; font-size: 14px\; background-color: rgb(255\, 255\, 255)\;" />\n<span style="color: rgb(29\, 33\, 41)\; font-family: Helvetica\, Arial\, sans-serif\; font-size: 14px\; background-color: rgb(255\, 255\, 255)\;">Bring your Lawn Chairs! We&#39\;ll be showing <b><i>CARS!</i></b>&nbsp\;on the massive 19&#39\; x 39&#39\; inflatable screen!</span><br style="color: rgb(29\, 33\, 41)\; font-family: Helvetica\, Arial\, sans-serif\; font-size: 14px\; background-color: rgb(255\, 255\, 255)\;" />\n<br style="color: rgb(29\, 33\, 41)\; font-family: Helvetica\, Arial\, sans-serif\; font-size: 14px\; background-color: rgb(255\, 255\, 255)\;" />\n<span style="color: rgb(29\, 33\, 41)\; font-family: Helvetica\, Arial\, sans-serif\; font-size: 14px\; background-color: rgb(255\, 255\, 255)\;">Food and Beverages will be for sale! Pre-movie fun will begin at 7PM. Movie Starts at dusk or whenever it gets dark enough!</span>
LOCATION:Governors District 222 SE Main St Grimes\, IA 50111
UID:e.2636.1299
SEQUENCE:3
DTSTAMP:20260424T104001Z
URL:https://business.grimesiowa.com/events/details/free-movie-friday-1299
END:VEVENT

END:VCALENDAR
