BEGIN:VCALENDAR
VERSION:2.0
PRODID:-//ChamberMaster//Event Calendar 2.0//EN
METHOD:PUBLISH
X-PUBLISHED-TTL:P3D
REFRESH-INTERVAL:P3D
CALSCALE:GREGORIAN
BEGIN:VEVENT
DTSTART:20221214T223000Z
DTEND:20221214T233000Z
X-MICROSOFT-CDO-ALLDAYEVENT:FALSE
SUMMARY:Gateway Family Dental Ribbon Cutting!
DESCRIPTION:Join us in celebrating one of Grimes Chamber & Economic Development's newest members with a Ribbon Cutting!\n\n\n\nBring a friend\, co-worker or neighbor to help celebrate!!
X-ALT-DESC;FMTTYPE=text/html:<div style="text-align: center\;"><span style="font-size:18px\;">Join us in celebrating one of Grimes Chamber &amp\; Economic Development&#39\;s newest members with a Ribbon Cutting!<br />\n<br />\nBring a friend\, co-worker or neighbor to help celebrate!!</span></div>\n
LOCATION:Gateway Family Dental 1471 E 1st St. Grimes\, IA
UID:e.2636.1744
SEQUENCE:3
DTSTAMP:20260419T133331Z
URL:https://business.grimesiowa.com/events/details/gateway-family-dental-ribbon-cutting-1744
END:VEVENT

END:VCALENDAR
