BEGIN:VCALENDAR
VERSION:2.0
PRODID:-//ChamberMaster//Event Calendar 2.0//EN
METHOD:PUBLISH
X-PUBLISHED-TTL:P3D
REFRESH-INTERVAL:P3D
CALSCALE:GREGORIAN
BEGIN:VEVENT
DTSTART;VALUE=DATE:20180903
DTEND;VALUE=DATE:20180904
TRANSP:TRANSPARENT
X-MICROSOFT-CDO-ALLDAYEVENT:TRUE
SUMMARY:GCED Office Closed
DESCRIPTION:Holiday. Office Closed. Will return at our regular hours September 4th.
X-ALT-DESC;FMTTYPE=text/html:Holiday. Office Closed. Will return at our regular hours September 4th.
LOCATION:
UID:e.2636.1311
SEQUENCE:3
DTSTAMP:20260424T090840Z
URL:https://business.grimesiowa.com/events/details/gced-office-closed-1311
END:VEVENT

END:VCALENDAR
