BEGIN:VCALENDAR
VERSION:2.0
PRODID:-//ChamberMaster//Event Calendar 2.0//EN
METHOD:PUBLISH
X-PUBLISHED-TTL:P3D
REFRESH-INTERVAL:P3D
CALSCALE:GREGORIAN
BEGIN:VEVENT
DTSTART:20210223T140000Z
DTEND:20210224T030000Z
X-MICROSOFT-CDO-ALLDAYEVENT:FALSE
SUMMARY:GDMP COVID-19 Vaccine and Local Distribution Update
DESCRIPTION:The Partnership will host a virtual meeting about the COVID-19 vaccine and local distribution on Tuesday\, Feb. 23 from 8   9 a.m. An expert panel will provide details on the vaccine's development process and insight on distribution plans at the national\, state and county levels. Featured speakers will include Dr. Meg Frazer\, Senior Director of Vaccines Medicine at Pfizer and Ken Sharp\, Division Director of Acute Disease Prevention\, Emergency Response and Environmental Health at the Iowa Department of Public Health (IDPH).\n\n \n\nRegister for the COVID-19 Vaccine Update meeting here.
X-ALT-DESC;FMTTYPE=text/html:<span style="font-family:arial\,sans-serif\;"><span style="font-size:12.0pt\;">The Partnership will host a virtual meeting about the <strong><span style="font-family:arial\,sans-serif\;">COVID-19 vaccine and local distribution </span></strong>on <strong><span style="font-family:arial\,sans-serif\;">Tuesday\, Feb. 23 from 8 &ndash\; 9 a.m. </span></strong>An expert panel will provide details on the vaccine&#39\;s development process and insight on distribution plans at the national\, state and county levels. Featured speakers will include <strong><span style="font-family:arial\,sans-serif\;">Dr. Meg Frazer\, Senior Director of Vaccines Medicine at Pfizer</span></strong> and <strong><span style="font-family:arial\,sans-serif\;">Ken Sharp</span></strong>\, Division Director of Acute Disease Prevention\, Emergency Response and Environmental Health at the <strong><span style="font-family:arial\,sans-serif\;">Iowa Department of Public Health (IDPH).</span></strong></span></span><br />\n&nbsp\;<br />\n<span style="font-family:arial\,sans-serif\;"><span style="font-size:12.0pt\;">Register for the COVID-19 Vaccine Update meeting <a href="https://members.dsmpartnership.com/events/details/covid-19-vaccine-update-distribution-from-national-state-and-county-experts-59106">here</a>.</span></span><br />\n&nbsp\;
LOCATION:Online
UID:e.2636.1594
SEQUENCE:3
DTSTAMP:20260422T190619Z
URL:https://business.grimesiowa.com/events/details/gdmp-covid-19-vaccine-and-local-distribution-update-1594
END:VEVENT

END:VCALENDAR
