BEGIN:VCALENDAR
VERSION:2.0
PRODID:-//ChamberMaster//Event Calendar 2.0//EN
METHOD:PUBLISH
X-PUBLISHED-TTL:P3D
REFRESH-INTERVAL:P3D
CALSCALE:GREGORIAN
BEGIN:VEVENT
DTSTART:20180208T133000Z
DTEND:20180208T150000Z
X-MICROSOFT-CDO-ALLDAYEVENT:FALSE
SUMMARY:GDMP Day on the Hill
DESCRIPTION:Join the Greater Des Moines Partnership for their annual Day on the Hill. Partnership Investors and Affiliate Members are invited to meet with legislators and converse about issues important to DSM USA. \n\n\n\n7:30   9 a.m.          Meet with Legislators in Room 116\n\n8:45 a.m.                Program begins\n\n9:15 a.m.                 Group photo on Capitol stairs\n\n\n\nBreakfast and coffee will be provided.
X-ALT-DESC;FMTTYPE=text/html:<span style="font-size:14px\;"><span style="border-collapse: separate\; color: rgb(38\, 38\, 38)\; direction: ltr\; empty-cells: show\; font-family: Montserrat\, sans-serif\; font-stretch: normal\; font-variant-numeric: normal\; font-variant-east-asian: normal\; line-height: 21px\; text-shadow: none\; visibility: visible\; word-break: normal\; word-wrap: normal\;">Join the Greater Des Moines Partnership for their annual Day on the Hill. Partnership Investors and Affiliate Members are invited to meet with legislators and converse about issues important to DSM USA.&nbsp\;</span><br style="background-attachment: scroll\; background-clip: border-box\; background-image: none\; background-origin: padding-box\; background-position: 0% 0%\; background-repeat: repeat\; background-size: auto\; border: 0px none rgb(38\, 38\, 38)\; border-radius: 0px\; border-collapse: separate\; bottom: auto\; box-sizing: content-box\; clear: none\; color: rgb(38\, 38\, 38)\; direction: ltr\; display: inline\; empty-cells: show\; float: none\; font-size: 16px\; font-stretch: normal\; font-variant-numeric: normal\; font-variant-east-asian: normal\; height: auto\; left: auto\; line-height: 21px\; margin: 0px\; max-height: none\; max-width: none\; min-height: 0px\; min-width: 0px\; opacity: 1\; outline-offset: 0px\; outline-style: none\; outline-width: 0px\; overflow: visible\; padding: 0px\; position: static\; right: auto\; table-layout: auto\; text-overflow: clip\; text-shadow: none\; top: auto\; vertical-align: baseline\; visibility: visible\; -webkit-tap-highlight-color: transparent\; width: auto\; word-break: normal\; word-wrap: normal\; z-index: auto\;" />\n<br style="background-attachment: scroll\; background-clip: border-box\; background-image: none\; background-origin: padding-box\; background-position: 0% 0%\; background-repeat: repeat\; background-size: auto\; border: 0px none rgb(38\, 38\, 38)\; border-radius: 0px\; border-collapse: separate\; bottom: auto\; box-sizing: content-box\; clear: none\; color: rgb(38\, 38\, 38)\; direction: ltr\; display: inline\; empty-cells: show\; float: none\; font-size: 16px\; font-stretch: normal\; font-variant-numeric: normal\; font-variant-east-asian: normal\; height: auto\; left: auto\; line-height: 21px\; margin: 0px\; max-height: none\; max-width: none\; min-height: 0px\; min-width: 0px\; opacity: 1\; outline-offset: 0px\; outline-style: none\; outline-width: 0px\; overflow: visible\; padding: 0px\; position: static\; right: auto\; table-layout: auto\; text-overflow: clip\; text-shadow: none\; top: auto\; vertical-align: baseline\; visibility: visible\; -webkit-tap-highlight-color: transparent\; width: auto\; word-break: normal\; word-wrap: normal\; z-index: auto\;" />\n<span style="border-collapse: separate\; color: rgb(38\, 38\, 38)\; direction: ltr\; empty-cells: show\; font-family: Montserrat\, sans-serif\; font-stretch: normal\; font-variant-numeric: normal\; font-variant-east-asian: normal\; line-height: 21px\; text-shadow: none\; visibility: visible\; word-break: normal\; word-wrap: normal\;">7:30 &ndash\; 9 a.m.&nbsp\; &nbsp\; &nbsp\;&nbsp\;&nbsp\; &nbsp\; Meet with Legislators in Room 116</span><br style="background-attachment: scroll\; background-clip: border-box\; background-image: none\; background-origin: padding-box\; background-position: 0% 0%\; background-repeat: repeat\; background-size: auto\; border: 0px none rgb(38\, 38\, 38)\; border-radius: 0px\; border-collapse: separate\; bottom: auto\; box-sizing: content-box\; clear: none\; color: rgb(38\, 38\, 38)\; direction: ltr\; display: inline\; empty-cells: show\; float: none\; font-size: 16px\; font-stretch: normal\; font-variant-numeric: normal\; font-variant-east-asian: normal\; height: auto\; left: auto\; line-height: 21px\; margin: 0px\; max-height: none\; max-width: none\; min-height: 0px\; min-width: 0px\; opacity: 1\; outline-offset: 0px\; outline-style: none\; outline-width: 0px\; overflow: visible\; padding: 0px\; position: static\; right: auto\; table-layout: auto\; text-overflow: clip\; text-shadow: none\; top: auto\; vertical-align: baseline\; visibility: visible\; -webkit-tap-highlight-color: transparent\; width: auto\; word-break: normal\; word-wrap: normal\; z-index: auto\;" />\n<span style="border-collapse: separate\; color: rgb(38\, 38\, 38)\; direction: ltr\; empty-cells: show\; font-family: Montserrat\, sans-serif\; font-stretch: normal\; font-variant-numeric: normal\; font-variant-east-asian: normal\; line-height: 21px\; text-shadow: none\; visibility: visible\; word-break: normal\; word-wrap: normal\;">8:45 a.m.&nbsp\;&nbsp\;&nbsp\;&nbsp\;&nbsp\;&nbsp\;&nbsp\;&nbsp\;&nbsp\;&nbsp\;&nbsp\;&nbsp\;&nbsp\; &nbsp\; Program begins</span><br style="background-attachment: scroll\; background-clip: border-box\; background-image: none\; background-origin: padding-box\; background-position: 0% 0%\; background-repeat: repeat\; background-size: auto\; border: 0px none rgb(38\, 38\, 38)\; border-radius: 0px\; border-collapse: separate\; bottom: auto\; box-sizing: content-box\; clear: none\; color: rgb(38\, 38\, 38)\; direction: ltr\; display: inline\; empty-cells: show\; float: none\; font-size: 16px\; font-stretch: normal\; font-variant-numeric: normal\; font-variant-east-asian: normal\; height: auto\; left: auto\; line-height: 21px\; margin: 0px\; max-height: none\; max-width: none\; min-height: 0px\; min-width: 0px\; opacity: 1\; outline-offset: 0px\; outline-style: none\; outline-width: 0px\; overflow: visible\; padding: 0px\; position: static\; right: auto\; table-layout: auto\; text-overflow: clip\; text-shadow: none\; top: auto\; vertical-align: baseline\; visibility: visible\; -webkit-tap-highlight-color: transparent\; width: auto\; word-break: normal\; word-wrap: normal\; z-index: auto\;" />\n<span style="border-collapse: separate\; color: rgb(38\, 38\, 38)\; direction: ltr\; empty-cells: show\; font-family: Montserrat\, sans-serif\; font-stretch: normal\; font-variant-numeric: normal\; font-variant-east-asian: normal\; line-height: 21px\; text-shadow: none\; visibility: visible\; word-break: normal\; word-wrap: normal\;">9:15 a.m.&nbsp\; &nbsp\; &nbsp\; &nbsp\; &nbsp\; &nbsp\; &nbsp\; &nbsp\; &nbsp\;Group photo on Capitol stairs</span><br style="background-attachment: scroll\; background-clip: border-box\; background-image: none\; background-origin: padding-box\; background-position: 0% 0%\; background-repeat: repeat\; background-size: auto\; border: 0px none rgb(38\, 38\, 38)\; border-radius: 0px\; border-collapse: separate\; bottom: auto\; box-sizing: content-box\; clear: none\; color: rgb(38\, 38\, 38)\; direction: ltr\; display: inline\; empty-cells: show\; float: none\; font-size: 16px\; font-stretch: normal\; font-variant-numeric: normal\; font-variant-east-asian: normal\; height: auto\; left: auto\; line-height: 21px\; margin: 0px\; max-height: none\; max-width: none\; min-height: 0px\; min-width: 0px\; opacity: 1\; outline-offset: 0px\; outline-style: none\; outline-width: 0px\; overflow: visible\; padding: 0px\; position: static\; right: auto\; table-layout: auto\; text-overflow: clip\; text-shadow: none\; top: auto\; vertical-align: baseline\; visibility: visible\; -webkit-tap-highlight-color: transparent\; width: auto\; word-break: normal\; word-wrap: normal\; z-index: auto\;" />\n<br style="background-attachment: scroll\; background-clip: border-box\; background-image: none\; background-origin: padding-box\; background-position: 0% 0%\; background-repeat: repeat\; background-size: auto\; border: 0px none rgb(38\, 38\, 38)\; border-radius: 0px\; border-collapse: separate\; bottom: auto\; box-sizing: content-box\; clear: none\; color: rgb(38\, 38\, 38)\; direction: ltr\; display: inline\; empty-cells: show\; float: none\; font-size: 16px\; font-stretch: normal\; font-variant-numeric: normal\; font-variant-east-asian: normal\; height: auto\; left: auto\; line-height: 21px\; margin: 0px\; max-height: none\; max-width: none\; min-height: 0px\; min-width: 0px\; opacity: 1\; outline-offset: 0px\; outline-style: none\; outline-width: 0px\; overflow: visible\; padding: 0px\; position: static\; right: auto\; table-layout: auto\; text-overflow: clip\; text-shadow: none\; top: auto\; vertical-align: baseline\; visibility: visible\; -webkit-tap-highlight-color: transparent\; width: auto\; word-break: normal\; word-wrap: normal\; z-index: auto\;" />\n<span style="border-collapse: separate\; color: rgb(38\, 38\, 38)\; direction: ltr\; empty-cells: show\; font-family: Montserrat\, sans-serif\; font-stretch: normal\; font-variant-numeric: normal\; font-variant-east-asian: normal\; line-height: 21px\; text-shadow: none\; visibility: visible\; word-break: normal\; word-wrap: normal\;">Breakfast and coffee will be provided.&nbsp\;</span></span>
LOCATION:State Capitol Building 1007 E. Grand Avenue\, Senate Room 116 Des Moines\, IA
UID:e.2636.1278
SEQUENCE:3
DTSTAMP:20260424T191000Z
URL:https://business.grimesiowa.com/events/details/gdmp-day-on-the-hill-1278
END:VEVENT

END:VCALENDAR
