BEGIN:VCALENDAR
VERSION:2.0
PRODID:-//ChamberMaster//Event Calendar 2.0//EN
METHOD:PUBLISH
X-PUBLISHED-TTL:P3D
REFRESH-INTERVAL:P3D
CALSCALE:GREGORIAN
BEGIN:VEVENT
DTSTART:20180308T223000Z
DTEND:20180309T003000Z
X-MICROSOFT-CDO-ALLDAYEVENT:FALSE
SUMMARY:Godfather's Ribbon Cutting
DESCRIPTION:Join us to celebrate the new addition on the Grimes Godfathers Pizza! They now have an eat in option in their new dining room. Come on over and check out the new space and congratulate the staff.
X-ALT-DESC;FMTTYPE=text/html:Join us to celebrate the new addition on the Grimes Godfathers Pizza! They now have an eat in option in their new dining room. Come on over and check out the new space and congratulate the staff.&nbsp\;&nbsp\;
LOCATION:Godfather's Pizza 200 SE Gateway Drive Suite 111 Grimes\, IA 50111
UID:e.2636.1276
SEQUENCE:3
DTSTAMP:20260424T173537Z
URL:https://business.grimesiowa.com/events/details/godfather-s-ribbon-cutting-1276
END:VEVENT

END:VCALENDAR
