BEGIN:VCALENDAR
VERSION:2.0
PRODID:-//ChamberMaster//Event Calendar 2.0//EN
METHOD:PUBLISH
X-PUBLISHED-TTL:P3D
REFRESH-INTERVAL:P3D
CALSCALE:GREGORIAN
BEGIN:VEVENT
DTSTART:20210401T210000Z
DTEND:20210401T223000Z
X-MICROSOFT-CDO-ALLDAYEVENT:FALSE
SUMMARY:Golden Rule PH&C Ribbon Cutting!
DESCRIPTION:Join us and Golden Rule PH&C to celebrate their new building with a Ribbon Cutting!\n\n\n\nThe business requests that all guests wear masks and practice social distancing.
X-ALT-DESC;FMTTYPE=text/html:Join us and Golden Rule PH&amp\;C to celebrate their new building with a Ribbon Cutting!<br />\n<br />\nThe business requests that all guests wear masks and practice social distancing.
LOCATION:Golden Rule PH&C 904 NE Main St. Grimes\, IA 50111
UID:e.2636.1606
SEQUENCE:3
DTSTAMP:20260422T173625Z
URL:https://business.grimesiowa.com/events/details/golden-rule-ph-c-ribbon-cutting-1606
END:VEVENT

END:VCALENDAR
