BEGIN:VCALENDAR
VERSION:2.0
PRODID:-//ChamberMaster//Event Calendar 2.0//EN
METHOD:PUBLISH
X-PUBLISHED-TTL:P3D
REFRESH-INTERVAL:P3D
CALSCALE:GREGORIAN
BEGIN:VEVENT
DTSTART;VALUE=DATE:20180607
DTEND;VALUE=DATE:20180610
TRANSP:TRANSPARENT
X-MICROSOFT-CDO-ALLDAYEVENT:TRUE
SUMMARY:Governors Days
DESCRIPTION:Governors Days is one of the grandest summer festivals in the Des Moines\, Iowa metropolitan area. Held entirely within the Governors District\, in the heart of Grimes\, Iowa\, this premier summer event incorporates all the ingredients for an exciting family friendly event.\n\nComplete with concerts\, parades\, carnivals\, car shows and much\, much more\; Governors Days has something for everyone. This grand community event is headed up by a vibrant group of dedicated volunteers and organized with the help of Grimes Chamber & Economic Development.\n\nCome and participate in this wonderful community event on June 7-9\, 2018. Admission to the festival is free thanks to the MANY wonderful business sponsors from the community.\nPresenting Sponsor: Blackstone Exteriors\, LLC\n\nGold Sponsor: Toyota of Des Moines\n\nEntertainment Garden Sponsor: Dreamscape Homebuilders\n\nHome Base Iowa Stage: Fox Engineering\n\nSaturday Night Band Sponsor: MS Moments\n\nSilver Sponsor: Golden Rule Plumbing\, Heating & Cooling\, BDI Signs\, Ignit Sports & Fitness\n\nCarnival Sponsor: Frampton Homes\n\nGrand Parade Presenting Sponsor: Shade Tree Auto\n\nT-Shirt Sponsor: Bankers Trust\n\nThe Throne Sponsor: State Farm Insurance: Andrea Sabus\n\nKiddie Parade Presenting Sponsor: Rainbow Play Systems of Iowa\n\nBeer Bracelet Sponsor: Charter Bank\n\nGrand Parade Gold Sponsor: City State Bank\, Golden Rule Plumbing Heating and Cooling\, Hacienda Vieja\n\nFood Court Sponsor: Cell Only\n\nBanner Sponsor: Kennybrook Village\, Grove & Platt Dental Associates\, Flooring America\, NuVu\, Black Hills Energy\, MidAmerican Energy\, Fareway\, Bomgaars\, Athletico Physical Therapy\, BDI Sings\n\nFriends of the Festival: RTL Equipment\, FedEx Ground\, Civil Design Advantage\n\nTrash Can Sponsor: Spirits Liquor\n\nKiddie Parade Popsicle Sponsor: Mercy Family Practice & Pediatrics Grimes\n\nKiddie Parade Candy Sponsor: the BEST Salon\, Bomgaars\n\n \n\nIf you haven't done so already\, be sure to follow the official Governors Days Facebook page by clicking HERE.
X-ALT-DESC;FMTTYPE=text/html:<div class="mn-event-content">\n<div class="mn-raw mn-print-url" itemprop="description">\n<p align="justify">Governors Days is one of the grandest summer festivals in the Des Moines\, Iowa metropolitan area. Held entirely within the <a href="http://www.governorsdistrict.org/" target="_blank">Governors District</a>\, in the heart of Grimes\, Iowa\, this premier summer event incorporates all the ingredients for an exciting family friendly event.</p>\n\n<p align="justify">Complete with concerts\, parades\, carnivals\, car shows and much\, much more\; Governors Days has something for everyone. This grand community event is headed up by a vibrant group of dedicated volunteers and organized with the help of <a href="http://www.grimesiowa.com" target="_blank">Grimes Chamber &amp\; Economic Development</a>.</p>\n\n<p align="justify">Come and participate in this wonderful community event on <strong>June 7-9\, 2018.</strong> Admission to the festival is free thanks to the MANY wonderful business sponsors from the community.</p>\n<strong><em>Presenting Sponsor:</em></strong> Blackstone Exteriors\, LLC<br />\n<strong><em>Gold Sponsor:</em></strong> Toyota of Des Moines<br />\n<strong><em>Entertainment Garden Sponsor:</em></strong> Dreamscape Homebuilders<br />\n<strong><em>Home Base Iowa Stage:</em></strong> Fox Engineering<br />\n<strong><em>Saturday Night Band Sponsor: </em></strong>MS Moments<br />\n<strong><em>Silver Sponsor:</em></strong> Golden Rule Plumbing\, Heating &amp\; Cooling\, BDI Signs\, Ignit Sports &amp\; Fitness<br />\n<strong><em>Carnival Sponsor:</em></strong> Frampton Homes<br />\n<strong><em>Grand Parade Presenting Sponsor:</em></strong> Shade Tree Auto<br />\n<strong><em>T-Shirt Sponsor:</em></strong> Bankers Trust<br />\n<strong><em>The Throne Sponsor:</em></strong> State Farm Insurance: Andrea Sabus<br />\n<strong><em>Kiddie Parade Presenting Sponsor:</em></strong> Rainbow Play Systems of Iowa<br />\n<strong><em>Beer Bracelet Sponsor:</em></strong> Charter Bank<br />\n<strong><em>Grand Parade Gold Sponsor:</em></strong> City State Bank\, Golden Rule Plumbing Heating and Cooling\, Hacienda Vieja<br />\n<strong><em>Food Court Sponsor:</em></strong> Cell Only<br />\n<strong><em>Banner Sponsor:</em></strong> Kennybrook Village\, Grove &amp\; Platt Dental Associates\, Flooring America\, NuVu\, Black Hills Energy\, MidAmerican Energy\, Fareway\, Bomgaars\, Athletico Physical Therapy\, BDI Sings<br />\n<strong><em>Friends of the Festival:</em></strong> RTL Equipment\, FedEx Ground\, Civil Design Advantage<br />\n<strong><em>Trash Can Sponsor:</em></strong> Spirits Liquor<br />\n<strong><em>Kiddie Parade Popsicle Sponsor:</em></strong> Mercy Family Practice &amp\; Pediatrics Grimes<br />\n<strong><em>Kiddie Parade Candy Sponsor:</em></strong> the BEST Salon\, Bomgaars\n\n<p align="justify">&nbsp\;<br />\nIf you haven&#39\;t done so already\, be sure to follow the official Governors Days Facebook page by clicking <a href="https://www.facebook.com/GovernorsDays/"><strong>HERE</strong></a>.</p>\n</div>\n</div>\n
LOCATION:Governors Days is a celebration that takes place throughout the community. However\, most activity is in or near Grimes Waterworks Park\, located at 200 N James Street\, Grimes\, Iowa. View a Map
UID:e.2636.241
SEQUENCE:3
DTSTAMP:20260424T132007Z
URL:https://business.grimesiowa.com/events/details/governors-days-241
END:VEVENT

END:VCALENDAR
