BEGIN:VCALENDAR
VERSION:2.0
PRODID:-//ChamberMaster//Event Calendar 2.0//EN
METHOD:PUBLISH
X-PUBLISHED-TTL:P3D
REFRESH-INTERVAL:P3D
CALSCALE:GREGORIAN
BEGIN:VEVENT
DTSTART:20220611T120000Z
DTEND:20220611T130000Z
X-MICROSOFT-CDO-ALLDAYEVENT:FALSE
SUMMARY:Governors Days 5K/Fun Run!
DESCRIPTION:Lace up your sneakers and race through Grimes as part of the annual Governors Days festivities. This 5K race starts and ends at Adesa and weaves through many of our residential streets. \n\n \n\nThis race is great for all ages and abilities\, so grab your family\, neighbors and co-workers and join us. \n\n\n\nRegister Here: https://www.dcgeducationfoundation.org/event-details/2022-governors-days-5k\n\n \n\nPacket pick up will be the day prior at Athletico.
X-ALT-DESC;FMTTYPE=text/html:<p style="margin: 0px\; padding: 0px\; border: 0px\; outline: 0px\; vertical-align: baseline\; background: transparent\; min-height: 1.5em\; color: rgb(0\, 0\, 0)\; font-family: montserrat\, sans-serif\; font-size: 16px\;">Lace up your sneakers and race through Grimes as part of the annual Governors Days festivities. This 5K race starts and ends at Adesa and weaves through many of our residential streets.&nbsp\;</p>\n\n<p style="margin: 0px\; padding: 0px\; border: 0px\; outline: 0px\; vertical-align: baseline\; background: transparent\; min-height: 1.5em\; color: rgb(0\, 0\, 0)\; font-family: montserrat\, sans-serif\; font-size: 16px\;">&nbsp\;</p>\n\n<p style="margin: 0px\; padding: 0px\; border: 0px\; outline: 0px\; vertical-align: baseline\; background: transparent\; min-height: 1.5em\; color: rgb(0\, 0\, 0)\; font-family: montserrat\, sans-serif\; font-size: 16px\;">This race is great for all ages and abilities\, so grab your family\, neighbors and co-workers and join us.&nbsp\;<br />\n<br />\nRegister Here:&nbsp\;<a href="https://www.dcgeducationfoundation.org/event-details/2022-governors-days-5k">https://www.dcgeducationfoundation.org/event-details/2022-governors-days-5k</a></p>\n\n<p style="margin: 0px\; padding: 0px\; border: 0px\; outline: 0px\; vertical-align: baseline\; background: transparent\; min-height: 1.5em\; color: rgb(0\, 0\, 0)\; font-family: montserrat\, sans-serif\; font-size: 16px\;">&nbsp\;</p>\n\n<p style="margin: 0px\; padding: 0px\; border: 0px\; outline: 0px\; vertical-align: baseline\; background: transparent\; min-height: 1.5em\; color: rgb(0\, 0\, 0)\; font-family: montserrat\, sans-serif\; font-size: 16px\;">Packet pick up will be the day prior at Athletico.&nbsp\;</p>\n
LOCATION:ADESA 1800 SE Gateway Dr. Grimes\, IA 50111
UID:e.2636.1698
SEQUENCE:3
DTSTAMP:20260419T221829Z
URL:https://business.grimesiowa.com/events/details/governors-days-5k-fun-run-1698
END:VEVENT

END:VCALENDAR
