BEGIN:VCALENDAR
VERSION:2.0
PRODID:-//ChamberMaster//Event Calendar 2.0//EN
METHOD:PUBLISH
X-PUBLISHED-TTL:P3D
REFRESH-INTERVAL:P3D
CALSCALE:GREGORIAN
BEGIN:VEVENT
DTSTART:20210612T120000Z
DTEND:20210612T140000Z
X-MICROSOFT-CDO-ALLDAYEVENT:FALSE
SUMMARY:Governors Days 5k & Fun Run Registration
DESCRIPTION:Governors Days is one of the grandest summer festivals in the Des Moines\, Iowa metropolitan area. Held entirely within the Governors District\, in the heart of Grimes\, Iowa\, this premier summer event incorporates all the ingredients for an exciting family friendly event.\n\n \n\nJoin us for the 18th Annual 5K and Fun Run! Dressing to match the theme "Decades" is encouraged for the 5K/Fun Run! \n\n\n\nPacket pick-up will be from 7-5:30 PM on Thursday\, June 10th and 7 AM-6 PM Friday\, June 11th at Athletico Physical Therapy.  Race day packet pick-up and registration will start at 6:00 AM in the ADESA parking lot (1800 SE Gateway Drive) on June 12th.  The 5K will start at 7:00 AM with the Fun Run beginning at approximately 7:45 AM.
X-ALT-DESC;FMTTYPE=text/html:<p style="box-sizing: border-box\; margin: 0px 0px 1rem\; color: rgb(85\, 85\, 85)\; font-family: Montserrat\, sans-serif\; font-size: 16px\;"><span style="box-sizing: border-box\; font-family: arial\;"><span style="box-sizing: border-box\; color: rgb(63\, 63\, 77)\; font-size: 14px\;">Governors Days is one of the grandest summer festivals in the Des Moines\, Iowa metropolitan area. Held entirely within the&nbsp\;</span><a href="http://www.governorsdistrict.org/" style="box-sizing: content-box\; background-image: none\; background-position: initial\; background-size: initial\; background-repeat: initial\; background-attachment: initial\; background-origin: initial\; background-clip: initial\; color: rgb(162\, 63\, 70)\; text-decoration-line: none\; overflow-wrap: break-word\; font-size: 14px\; line-height: inherit\; font-family: open_sansregular\, arial\, sans-serif\; inset: auto\; clear: none\; content: normal\; direction: inherit\; display: inline\; empty-cells: show\; float: none\; font-variant-numeric: inherit\; font-stretch: inherit\; margin: 0px\; max-height: none\; max-width: none\; min-height: initial\; min-width: initial\; opacity: 1\; outline-offset: 0px\; overflow: visible\; padding: 0px\; position: static\; resize: none\; table-layout: auto\; text-overflow: clip\; vertical-align: baseline\; visibility: inherit\; word-break: inherit\; z-index: auto\; border: none\; border-collapse: separate\; border-radius: 0px\; height: auto\; width: auto\; box-shadow: none\;" target="_blank">Governors District</a><span style="box-sizing: border-box\; color: rgb(63\, 63\, 77)\; font-size: 14px\;">\, in the heart of Grimes\, Iowa\, this premier summer event incorporates all the ingredients for an exciting family friendly event.</span></span></p>\n\n<div style="box-sizing: border-box\; color: rgb(85\, 85\, 85)\; font-family: Montserrat\, sans-serif\; font-size: 16px\;">&nbsp\;</div>\n\n<div style="box-sizing: border-box\; color: rgb(85\, 85\, 85)\; font-family: Montserrat\, sans-serif\; font-size: 16px\;"><span style="box-sizing: border-box\; font-family: arial\;"><font color="#3f3f4d" style="box-sizing: border-box\;"><span style="box-sizing: border-box\; font-size: 14px\;">Join us for the 18th Annual 5K and Fun Run!&nbsp\;</span></font></span><span style="font-family:arial\;"><span style="font-size:14px\;"><span style="box-sizing: border-box\;"><span style="box-sizing: border-box\;">Dressing to match the theme &quot\;Decades&quot\; is encouraged for the 5K/Fun Run!&nbsp\;</span></span></span></span><br />\n<br />\n<span style="box-sizing: border-box\; font-family: arial\; font-size: 13.3333px\;">Packet pick-up will be from 7-5:30 PM on Thursday\, June 10</span><span style="box-sizing: border-box\; font-size: 12px\; line-height: 0\; position: relative\; vertical-align: baseline\; top: -0.5em\; font-family: arial\;">th</span><span style="box-sizing: border-box\; font-family: arial\; font-size: 13.3333px\;">&nbsp\;and 7 AM-6 PM Friday\, June 11</span><span style="box-sizing: border-box\; font-size: 12px\; line-height: 0\; position: relative\; vertical-align: baseline\; top: -0.5em\; font-family: arial\;">th</span><span style="box-sizing: border-box\; font-family: arial\; font-size: 13.3333px\;">&nbsp\;at&nbsp\;</span><span style="font-size:14px\;"><span style="font-family:arial\;"><span style="color: rgb(85\, 85\, 85)\;">Athletico</span></span></span><span style="box-sizing: border-box\; font-family: arial\; font-size: 13.3333px\;">&nbsp\;Physical Therapy.&nbsp\; Race day packet pick-up and registration will start at 6:00 AM in the&nbsp\;</span><span style="color: rgb(85\, 85\, 85)\; font-family: Montserrat\, sans-serif\; font-size: 16px\;">ADESA</span><span style="box-sizing: border-box\; font-family: arial\; font-size: 13.3333px\;">&nbsp\;parking lot (1800 SE Gateway Drive) on June 12</span><span style="box-sizing: border-box\; font-size: 12px\; line-height: 0\; position: relative\; vertical-align: baseline\; top: -0.5em\; font-family: arial\;">th</span><span style="box-sizing: border-box\; font-family: arial\; font-size: 13.3333px\;">.&nbsp\; The 5K will start at 7:00 AM with the Fun Run beginning at approximately 7:45 AM.</span></div>\n
LOCATION:Both races will start in the ADESA parking lot and be running through residential areas in Grimes.
UID:e.2636.1595
SEQUENCE:3
DTSTAMP:20260422T143029Z
URL:https://business.grimesiowa.com/events/details/governors-days-5k-fun-run-registration-06-12-2021-1595
END:VEVENT

END:VCALENDAR
