BEGIN:VCALENDAR
VERSION:2.0
PRODID:-//ChamberMaster//Event Calendar 2.0//EN
METHOD:PUBLISH
X-PUBLISHED-TTL:P3D
REFRESH-INTERVAL:P3D
CALSCALE:GREGORIAN
BEGIN:VEVENT
DTSTART:20180603T140000Z
DTEND:20180603T200000Z
X-MICROSOFT-CDO-ALLDAYEVENT:FALSE
SUMMARY:Governors Days Sidewalk Art
DESCRIPTION:There are only so many squares to be painted! Be a part of a brand-new Governors Days tradition by purchasing a square for your businesses\, family\, cause or just for fun! The paint\, brushes and items you will need will all be supplied but if there is a brush/utensil that you would prefer to use feel free to bring those along! You will have red\, blue\, yellow and white paint to use to create your master piece. Join in the fun and show off your artistic abilities. These squares will be viewed by all attendees of Governors Days as the squares will be placed on the entrance to all the food and fun. You are going to want to grab yourself a square!
X-ALT-DESC;FMTTYPE=text/html:There are only so many squares to be painted! Be a part of a brand-new Governors Days tradition by purchasing a square for your businesses\, family\, cause or just for fun! The paint\, brushes and items you will need will all be supplied but if there is a brush/utensil that you would prefer to use feel free to bring those along! You will have red\, blue\, yellow and white paint to use to create your master piece. Join in the fun and show off your artistic abilities. These squares will be viewed by all attendees of Governors Days as the squares will be placed on the entrance to all the food and fun. You are going to want to grab yourself a square!
LOCATION:Grimes Public Library Waterworks Park 200 N James St Grimes\, IA 50111
UID:e.2636.1291
SEQUENCE:3
DTSTAMP:20260424T132248Z
URL:https://business.grimesiowa.com/events/details/governors-days-sidewalk-art-1291
END:VEVENT

END:VCALENDAR
