BEGIN:VCALENDAR
VERSION:2.0
PRODID:-//ChamberMaster//Event Calendar 2.0//EN
METHOD:PUBLISH
X-PUBLISHED-TTL:P3D
REFRESH-INTERVAL:P3D
CALSCALE:GREGORIAN
BEGIN:VEVENT
DTSTART;VALUE=DATE:20180607
DTEND;VALUE=DATE:20180610
TRANSP:TRANSPARENT
X-MICROSOFT-CDO-ALLDAYEVENT:TRUE
SUMMARY:Governors Days Vendor Registration
DESCRIPTION:Governors Days is one of the grandest summer festivals in the Des Moines\, Iowa metropolitan area. Held entirely within the Governors District\, in the heart of Grimes\, Iowa\, this premier summer event incorporates all the ingredients for an exciting family friendly event.\n\nComplete with concerts\, parades\, carnivals\, great vendors and much\, much more\; Governors Days has something for everyone. This grand community event is headed up by a vibrant group of dedicated volunteers and organized with the help of Grimes Chamber & Economic Development.
X-ALT-DESC;FMTTYPE=text/html:<p align="justify" style="font-family: open_sansregular\, arial\, sans-serif\; color: rgb(63\, 63\, 77)\; line-height: inherit\; font-size: 14px\; margin: 1em 0px\; bottom: auto\; box-sizing: content-box\; clear: none\; content: normal\; direction: inherit\; empty-cells: show\; float: none\; font-variant-numeric: inherit\; font-stretch: inherit\; left: auto\; max-height: none\; max-width: none\; min-height: initial\; min-width: initial\; opacity: 1\; outline-offset: 0px\; overflow: visible\; padding: 0px\; position: static\; resize: none\; right: auto\; table-layout: auto\; text-overflow: clip\; top: auto\; vertical-align: baseline\; visibility: inherit\; word-break: inherit\; word-wrap: inherit\; z-index: auto\; background: none rgb(255\, 255\, 255)\; border: none\; border-collapse: separate\; border-radius: 0px\; height: auto\; width: auto\; box-shadow: none\;">Governors Days is one of the grandest summer festivals in the Des Moines\, Iowa metropolitan area. Held entirely within the&nbsp\;<a href="http://www.governorsdistrict.org/" style="color: rgb(162\, 63\, 70)\; font-size: inherit\; line-height: inherit\; font-family: inherit\; text-decoration: none\; bottom: auto\; box-sizing: content-box\; clear: none\; content: normal\; direction: inherit\; display: inline\; empty-cells: show\; float: none\; font-style: inherit\; font-variant: inherit\; font-weight: inherit\; font-stretch: inherit\; left: auto\; letter-spacing: inherit\; margin: 0px\; max-height: none\; max-width: none\; min-height: initial\; min-width: initial\; opacity: 1\; outline-offset: 0px\; overflow: visible\; padding: 0px\; position: static\; resize: none\; right: auto\; table-layout: auto\; text-align: inherit\; text-indent: inherit\; text-overflow: clip\; text-transform: inherit\; top: auto\; vertical-align: baseline\; visibility: inherit\; white-space: inherit\; word-break: inherit\; word-spacing: inherit\; word-wrap: break-word\; z-index: auto\; background: none\; border: none\; border-collapse: separate\; border-radius: 0px\; height: auto\; width: auto\; box-shadow: none\;" target="_blank">Governors District</a>\, in the heart of Grimes\, Iowa\, this premier summer event incorporates all the ingredients for an exciting family friendly event.</p>\n\n<p align="justify" style="font-family: open_sansregular\, arial\, sans-serif\; color: rgb(63\, 63\, 77)\; line-height: inherit\; font-size: 14px\; margin: 1em 0px\; bottom: auto\; box-sizing: content-box\; clear: none\; content: normal\; direction: inherit\; empty-cells: show\; float: none\; font-variant-numeric: inherit\; font-stretch: inherit\; left: auto\; max-height: none\; max-width: none\; min-height: initial\; min-width: initial\; opacity: 1\; outline-offset: 0px\; overflow: visible\; padding: 0px\; position: static\; resize: none\; right: auto\; table-layout: auto\; text-overflow: clip\; top: auto\; vertical-align: baseline\; visibility: inherit\; word-break: inherit\; word-wrap: inherit\; z-index: auto\; background: none rgb(255\, 255\, 255)\; border: none\; border-collapse: separate\; border-radius: 0px\; height: auto\; width: auto\; box-shadow: none\;">Complete with concerts\, parades\, carnivals\, great vendors and much\, much more\; Governors Days has something for everyone. This grand community event is headed up by a vibrant group of dedicated volunteers and organized with the help of&nbsp\;<a href="http://www.grimesiowa.com/" style="color: rgb(162\, 63\, 70)\; font-size: inherit\; line-height: inherit\; font-family: inherit\; text-decoration: none\; bottom: auto\; box-sizing: content-box\; clear: none\; content: normal\; direction: inherit\; display: inline\; empty-cells: show\; float: none\; font-style: inherit\; font-variant: inherit\; font-weight: inherit\; font-stretch: inherit\; left: auto\; letter-spacing: inherit\; margin: 0px\; max-height: none\; max-width: none\; min-height: initial\; min-width: initial\; opacity: 1\; outline-offset: 0px\; overflow: visible\; padding: 0px\; position: static\; resize: none\; right: auto\; table-layout: auto\; text-align: inherit\; text-indent: inherit\; text-overflow: clip\; text-transform: inherit\; top: auto\; vertical-align: baseline\; visibility: inherit\; white-space: inherit\; word-break: inherit\; word-spacing: inherit\; word-wrap: break-word\; z-index: auto\; background: none\; border: none\; border-collapse: separate\; border-radius: 0px\; height: auto\; width: auto\; box-shadow: none\;" target="_blank">Grimes Chamber &amp\; Economic Development</a>.</p>\n
LOCATION:Governors Days is a celebration that takes place throughout the community. However\, most activity is in or near Grimes Waterworks Park\, located at 200 N James Street\, Grimes\, Iowa.
UID:e.2636.1280
SEQUENCE:3
DTSTAMP:20260424T132253Z
URL:https://business.grimesiowa.com/events/details/governors-days-vendor-registration-1280
END:VEVENT

END:VCALENDAR
