BEGIN:VCALENDAR
VERSION:2.0
PRODID:-//ChamberMaster//Event Calendar 2.0//EN
METHOD:PUBLISH
X-PUBLISHED-TTL:P3D
REFRESH-INTERVAL:P3D
CALSCALE:GREGORIAN
BEGIN:VEVENT
DTSTART:20161130T160000Z
DTEND:20161130T230000Z
X-MICROSOFT-CDO-ALLDAYEVENT:FALSE
SUMMARY:Grand Re-Opening Celebration Signarama-Ankeny
DESCRIPTION:Help our new member Signarama-Ankeny celebrate their grand re-opening. Meet the new team and owner.  Please bring food items for the Central Iowa Food Pantry.  Door prizes and refreshments.
X-ALT-DESC;FMTTYPE=text/html:Help our new member Signarama-Ankeny celebrate their grand re-opening. Meet the new team and owner. &nbsp\;Please bring food items for the Central Iowa Food Pantry. &nbsp\;Door prizes and refreshments.&nbsp\;
LOCATION:
UID:e.2636.46
SEQUENCE:3
DTSTAMP:20260425T162601Z
URL:https://business.grimesiowa.com/events/details/grand-re-opening-celebration-signarama-ankeny-46
END:VEVENT

END:VCALENDAR
