BEGIN:VCALENDAR
VERSION:2.0
PRODID:-//ChamberMaster//Event Calendar 2.0//EN
METHOD:PUBLISH
X-PUBLISHED-TTL:P3D
REFRESH-INTERVAL:P3D
CALSCALE:GREGORIAN
BEGIN:VEVENT
DTSTART:20210304T190000Z
DTEND:20210304T210000Z
X-MICROSOFT-CDO-ALLDAYEVENT:FALSE
SUMMARY:Greater DSM Partnership: Make it OK Virtual Ambassador Training
DESCRIPTION:Join the Greater Des Moines Partnership for:\n\n\n\nMake It OK is community campaign to reduce stigma by starting conversations and increasing understanding about mental illness. \n\n\n\nWe need your help to stop the silence on mental illness in Iowa. Sign up to join us as a Make It OK Ambassador. Anyone can become a Make It OK Ambassador - you do not have to be an expert on mental health but someone who enjoys connecting\, engaging\, educating and promoting mental health awareness.\n\n\n\nAnyone can become a Make It OK Ambassador   you do not have to be an expert on mental health but someone who enjoys connecting\, engaging\, educating and promoting mental health awareness.\n\n\n\nRegister Here: https://members.dsmpartnership.com/events/details/march-4-make-it-ok-virtual-ambassador-training-03-04-2021-59101
X-ALT-DESC;FMTTYPE=text/html:Join the Greater Des Moines Partnership for:<br />\n<br />\n<a href="http://www.iowahealthieststate.com/resources/individuals/makeitok/" style="box-sizing: content-box\; -webkit-tap-highlight-color: rgba(0\, 0\, 0\, 0)\; color: rgb(232\, 44\, 42)\; text-decoration-line: none\; border: none\; outline: none\; background-image: none\; background-position: initial\; background-size: initial\; background-repeat: initial\; background-attachment: initial\; background-origin: initial\; background-clip: initial\; inset: auto\; clear: none\; content: normal\; direction: inherit\; display: inline\; empty-cells: show\; float: none\; font-variant-numeric: inherit\; font-variant-east-asian: inherit\; font-stretch: inherit\; font-size: 16px\; font-family: Montserrat\, sans-serif\; line-height: inherit\; margin: 0px\; max-height: none\; max-width: none\; min-height: initial\; min-width: initial\; opacity: 1\; outline-offset: 0px\; overflow: visible\; padding: 0px\; position: static\; resize: none\; table-layout: auto\; text-overflow: clip\; vertical-align: baseline\; visibility: inherit\; word-break: inherit\; overflow-wrap: break-word\; z-index: auto\; border-collapse: separate\; border-radius: 0px\; height: auto\; width: auto\; box-shadow: none\;">Make It OK</a><span style="color: rgb(38\, 38\, 38)\; font-family: Montserrat\, sans-serif\; font-size: 16px\;">&nbsp\;is community campaign to reduce stigma by starting conversations and increasing understanding about mental illness.&nbsp\;</span><br style="box-sizing: content-box\; -webkit-tap-highlight-color: rgba(0\, 0\, 0\, 0)\; inset: auto\; clear: none\; color: rgb(38\, 38\, 38)\; content: normal\; direction: inherit\; display: inline\; empty-cells: show\; float: none\; font-variant-numeric: inherit\; font-variant-east-asian: inherit\; font-stretch: inherit\; font-size: 16px\; font-family: Montserrat\, sans-serif\; line-height: inherit\; margin: 0px\; max-height: none\; max-width: none\; min-height: initial\; min-width: initial\; opacity: 1\; outline-offset: 0px\; overflow: visible\; padding: 0px\; position: static\; resize: none\; table-layout: auto\; text-overflow: clip\; vertical-align: baseline\; visibility: inherit\; word-break: inherit\; overflow-wrap: inherit\; z-index: auto\; background-image: none\; background-position: initial\; background-size: initial\; background-repeat: initial\; background-attachment: initial\; background-origin: initial\; background-clip: initial\; border: none\; border-collapse: separate\; border-radius: 0px\; height: auto\; width: auto\;" />\n<br style="box-sizing: content-box\; -webkit-tap-highlight-color: rgba(0\, 0\, 0\, 0)\; inset: auto\; clear: none\; color: rgb(38\, 38\, 38)\; content: normal\; direction: inherit\; display: inline\; empty-cells: show\; float: none\; font-variant-numeric: inherit\; font-variant-east-asian: inherit\; font-stretch: inherit\; font-size: 16px\; font-family: Montserrat\, sans-serif\; line-height: inherit\; margin: 0px\; max-height: none\; max-width: none\; min-height: initial\; min-width: initial\; opacity: 1\; outline-offset: 0px\; overflow: visible\; padding: 0px\; position: static\; resize: none\; table-layout: auto\; text-overflow: clip\; vertical-align: baseline\; visibility: inherit\; word-break: inherit\; overflow-wrap: inherit\; z-index: auto\; background-image: none\; background-position: initial\; background-size: initial\; background-repeat: initial\; background-attachment: initial\; background-origin: initial\; background-clip: initial\; border: none\; border-collapse: separate\; border-radius: 0px\; height: auto\; width: auto\;" />\n<span style="color: rgb(38\, 38\, 38)\; font-family: Montserrat\, sans-serif\; font-size: 16px\;">We need your help to stop the silence on mental illness in Iowa. Sign up to join us as a Make It OK Ambassador. Anyone can become a Make It OK Ambassador - you do not have to be an expert on mental health but someone who enjoys connecting\, engaging\, educating and promoting mental health awareness.</span><br style="box-sizing: content-box\; -webkit-tap-highlight-color: rgba(0\, 0\, 0\, 0)\; inset: auto\; clear: none\; color: rgb(38\, 38\, 38)\; content: normal\; direction: inherit\; display: inline\; empty-cells: show\; float: none\; font-variant-numeric: inherit\; font-variant-east-asian: inherit\; font-stretch: inherit\; font-size: 16px\; font-family: Montserrat\, sans-serif\; line-height: inherit\; margin: 0px\; max-height: none\; max-width: none\; min-height: initial\; min-width: initial\; opacity: 1\; outline-offset: 0px\; overflow: visible\; padding: 0px\; position: static\; resize: none\; table-layout: auto\; text-overflow: clip\; vertical-align: baseline\; visibility: inherit\; word-break: inherit\; overflow-wrap: inherit\; z-index: auto\; background-image: none\; background-position: initial\; background-size: initial\; background-repeat: initial\; background-attachment: initial\; background-origin: initial\; background-clip: initial\; border: none\; border-collapse: separate\; border-radius: 0px\; height: auto\; width: auto\;" />\n<br style="box-sizing: content-box\; -webkit-tap-highlight-color: rgba(0\, 0\, 0\, 0)\; inset: auto\; clear: none\; color: rgb(38\, 38\, 38)\; content: normal\; direction: inherit\; display: inline\; empty-cells: show\; float: none\; font-variant-numeric: inherit\; font-variant-east-asian: inherit\; font-stretch: inherit\; font-size: 16px\; font-family: Montserrat\, sans-serif\; line-height: inherit\; margin: 0px\; max-height: none\; max-width: none\; min-height: initial\; min-width: initial\; opacity: 1\; outline-offset: 0px\; overflow: visible\; padding: 0px\; position: static\; resize: none\; table-layout: auto\; text-overflow: clip\; vertical-align: baseline\; visibility: inherit\; word-break: inherit\; overflow-wrap: inherit\; z-index: auto\; background-image: none\; background-position: initial\; background-size: initial\; background-repeat: initial\; background-attachment: initial\; background-origin: initial\; background-clip: initial\; border: none\; border-collapse: separate\; border-radius: 0px\; height: auto\; width: auto\;" />\n<span style="color: rgb(38\, 38\, 38)\; font-family: Montserrat\, sans-serif\; font-size: 16px\;">Anyone can become a&nbsp\;</span><a href="http://www.iowahealthieststate.com/resources/individuals/makeitok/ambassador/?utm_medium=email&amp\;utm_campaign=Make%20It%20OK%20-%20Winter%202021%20trainings%20REMINDER&amp\;utm_content=Make%20It%20OK%20-%20Winter%202021%20trainings%20REMINDER+CID_d2e2e38be94642da3f614ea98cdb3671&amp\;utm_source=U%20Mail&amp\;utm_term=Make%20It%20OK%20Ambassador" style="box-sizing: content-box\; -webkit-tap-highlight-color: rgba(0\, 0\, 0\, 0)\; color: rgb(232\, 44\, 42)\; text-decoration-line: none\; border: none\; outline: none\; background-image: none\; background-position: initial\; background-size: initial\; background-repeat: initial\; background-attachment: initial\; background-origin: initial\; background-clip: initial\; inset: auto\; clear: none\; content: normal\; direction: inherit\; display: inline\; empty-cells: show\; float: none\; font-variant-numeric: inherit\; font-variant-east-asian: inherit\; font-stretch: inherit\; font-size: 16px\; font-family: Montserrat\, sans-serif\; line-height: inherit\; margin: 0px\; max-height: none\; max-width: none\; min-height: initial\; min-width: initial\; opacity: 1\; outline-offset: 0px\; overflow: visible\; padding: 0px\; position: static\; resize: none\; table-layout: auto\; text-overflow: clip\; vertical-align: baseline\; visibility: inherit\; word-break: inherit\; overflow-wrap: break-word\; z-index: auto\; border-collapse: separate\; border-radius: 0px\; height: auto\; width: auto\; box-shadow: none\;">Make It OK Ambassador</a><span style="color: rgb(38\, 38\, 38)\; font-family: Montserrat\, sans-serif\; font-size: 16px\;">&nbsp\;&ndash\; you do not have to be an expert on mental health but someone who enjoys connecting\, engaging\, educating and promoting mental health awareness.<br />\n<br />\nRegister Here:&nbsp\;</span>https://members.dsmpartnership.com/events/details/march-4-make-it-ok-virtual-ambassador-training-03-04-2021-59101
LOCATION:Virtual
UID:e.2636.1600
SEQUENCE:3
DTSTAMP:20260422T173416Z
URL:https://business.grimesiowa.com/events/details/greater-dsm-partnership-make-it-ok-virtual-ambassador-training-1600
END:VEVENT

END:VCALENDAR
