BEGIN:VCALENDAR
VERSION:2.0
PRODID:-//ChamberMaster//Event Calendar 2.0//EN
METHOD:PUBLISH
X-PUBLISHED-TTL:P3D
REFRESH-INTERVAL:P3D
CALSCALE:GREGORIAN
BEGIN:VEVENT
DTSTART:20210303T200000Z
DTEND:20210303T220000Z
X-MICROSOFT-CDO-ALLDAYEVENT:FALSE
SUMMARY:Greater DSM Partnership: Perspective on Navigating Seed & Venture Capital in Today's Environment
DESCRIPTION:Join the Greater Des Moines Partnership for a free webinar as we discuss the ongoing challenges of raising and deploying capital during a pandemic. You'll hear from experienced investors\, entrepreneurs who have successfully raised capital\, and the teams that put it all together. Our expert panelists will leave you with ideas\, action items and answers to your questions.\n\n\n\nThis event is sponsored by the Greater Des Moines Partnership\, BrownWinick and LWBJ.\n\n\n\nRegister Here: https://members.dsmpartnership.com/events/details/the-current-state-perspectives-on-navigating-seed-and-venture-capital-in-today-s-environment-03-03-2021-59109\n\n\n\nAgenda:\n\n2:00 PM - Welcome and Introductions\n\n2:10 PM - Investor Panel moderated by JD Genesser\; Panelists:  Eric Engelmann\, Craig Ibsen and Joe Leo\n\n2:50 PM - Q&A\n\n3:00 PM - Break\n\n3:05 PM - Entrepreneur Panel moderated by Brad Dwyer\; Panelists: Michael Ott\, Casey Niemann\, Lana Fox and Kyle McMahon\n\n3:45 PM - Q&A\n\n3:55 PM - Closing
X-ALT-DESC;FMTTYPE=text/html:<span class="normaltextrun" style="box-sizing: content-box\; -webkit-tap-highlight-color: rgba(0\, 0\, 0\, 0)\; inset: auto\; clear: none\; color: rgb(0\, 0\, 0)\; content: normal\; direction: inherit\; display: inline\; empty-cells: show\; float: none\; font-variant-numeric: inherit\; font-variant-east-asian: inherit\; font-stretch: inherit\; font-size: 14px\; font-family: arial\; line-height: inherit\; margin: 0px\; max-height: none\; max-width: none\; min-height: initial\; min-width: initial\; opacity: 1\; outline-offset: 0px\; overflow: visible\; padding: 0px\; position: static\; resize: none\; table-layout: auto\; text-overflow: clip\; vertical-align: baseline\; visibility: inherit\; word-break: inherit\; overflow-wrap: inherit\; z-index: auto\; background-image: none\; background-position: initial\; background-size: initial\; background-repeat: initial\; background-attachment: initial\; background-origin: initial\; background-clip: initial\; border: none\; border-collapse: separate\; border-radius: 0px\; height: auto\; width: auto\; box-shadow: none\; caret-color: rgb(0\, 0\, 0)\;">Join the Greater Des Moines Partnership for a free webinar as we discuss the ongoing challenges of raising and deploying capital during a pandemic. You&rsquo\;ll hear from experienced investors\, entrepreneurs who have successfully raised capital\, and the teams that put it all together. Our expert panelists will leave you with ideas\, action items&nbsp\;and answers to your questions.<br style="box-sizing: content-box\; -webkit-tap-highlight-color: rgba(0\, 0\, 0\, 0)\; inset: auto\; clear: none\; color: inherit\; content: normal\; direction: inherit\; display: inline\; empty-cells: show\; float: none\; font: inherit\; letter-spacing: inherit\; margin: 0px\; max-height: none\; max-width: none\; min-height: initial\; min-width: initial\; opacity: 1\; outline-offset: 0px\; overflow: visible\; padding: 0px\; position: static\; resize: none\; table-layout: auto\; text-align: inherit\; text-indent: inherit\; text-overflow: clip\; text-transform: inherit\; vertical-align: baseline\; visibility: inherit\; white-space: inherit\; word-break: inherit\; word-spacing: inherit\; overflow-wrap: inherit\; z-index: auto\; background: none\; border: none\; border-collapse: separate\; border-radius: 0px\; height: auto\; width: auto\;" />\n<br style="box-sizing: content-box\; -webkit-tap-highlight-color: rgba(0\, 0\, 0\, 0)\; inset: auto\; clear: none\; color: inherit\; content: normal\; direction: inherit\; display: inline\; empty-cells: show\; float: none\; font: inherit\; letter-spacing: inherit\; margin: 0px\; max-height: none\; max-width: none\; min-height: initial\; min-width: initial\; opacity: 1\; outline-offset: 0px\; overflow: visible\; padding: 0px\; position: static\; resize: none\; table-layout: auto\; text-align: inherit\; text-indent: inherit\; text-overflow: clip\; text-transform: inherit\; vertical-align: baseline\; visibility: inherit\; white-space: inherit\; word-break: inherit\; word-spacing: inherit\; overflow-wrap: inherit\; z-index: auto\; background: none\; border: none\; border-collapse: separate\; border-radius: 0px\; height: auto\; width: auto\;" />\nThis event is sponsored by the Greater Des Moines Partnership\, BrownWinick and LWBJ.<br />\n<br />\nRegister Here:&nbsp\;</span>https://members.dsmpartnership.com/events/details/the-current-state-perspectives-on-navigating-seed-and-venture-capital-in-today-s-environment-03-03-2021-59109<br style="box-sizing: content-box\; -webkit-tap-highlight-color: rgba(0\, 0\, 0\, 0)\; inset: auto\; clear: none\; color: rgb(0\, 0\, 0)\; content: normal\; direction: inherit\; display: inline\; empty-cells: show\; float: none\; font-variant-numeric: inherit\; font-variant-east-asian: inherit\; font-stretch: inherit\; font-size: 14px\; font-family: arial\; line-height: inherit\; margin: 0px\; max-height: none\; max-width: none\; min-height: initial\; min-width: initial\; opacity: 1\; outline-offset: 0px\; overflow: visible\; padding: 0px\; position: static\; resize: none\; table-layout: auto\; text-overflow: clip\; vertical-align: baseline\; visibility: inherit\; word-break: inherit\; overflow-wrap: inherit\; z-index: auto\; background-image: none\; background-position: initial\; background-size: initial\; background-repeat: initial\; background-attachment: initial\; background-origin: initial\; background-clip: initial\; border: none\; border-collapse: separate\; border-radius: 0px\; height: auto\; width: auto\; caret-color: rgb(0\, 0\, 0)\;" />\n<br style="box-sizing: content-box\; -webkit-tap-highlight-color: rgba(0\, 0\, 0\, 0)\; inset: auto\; clear: none\; color: rgb(0\, 0\, 0)\; content: normal\; direction: inherit\; display: inline\; empty-cells: show\; float: none\; font-variant-numeric: inherit\; font-variant-east-asian: inherit\; font-stretch: inherit\; font-size: 14px\; font-family: arial\; line-height: inherit\; margin: 0px\; max-height: none\; max-width: none\; min-height: initial\; min-width: initial\; opacity: 1\; outline-offset: 0px\; overflow: visible\; padding: 0px\; position: static\; resize: none\; table-layout: auto\; text-overflow: clip\; vertical-align: baseline\; visibility: inherit\; word-break: inherit\; overflow-wrap: inherit\; z-index: auto\; background-image: none\; background-position: initial\; background-size: initial\; background-repeat: initial\; background-attachment: initial\; background-origin: initial\; background-clip: initial\; border: none\; border-collapse: separate\; border-radius: 0px\; height: auto\; width: auto\; caret-color: rgb(0\, 0\, 0)\;" />\n<span style="color: rgb(0\, 0\, 0)\; font-family: arial\; font-size: 14px\; caret-color: rgb(0\, 0\, 0)\;">Agenda:</span><br style="box-sizing: content-box\; -webkit-tap-highlight-color: rgba(0\, 0\, 0\, 0)\; inset: auto\; clear: none\; color: rgb(0\, 0\, 0)\; content: normal\; direction: inherit\; display: inline\; empty-cells: show\; float: none\; font-variant-numeric: inherit\; font-variant-east-asian: inherit\; font-stretch: inherit\; font-size: 14px\; font-family: arial\; line-height: inherit\; margin: 0px\; max-height: none\; max-width: none\; min-height: initial\; min-width: initial\; opacity: 1\; outline-offset: 0px\; overflow: visible\; padding: 0px\; position: static\; resize: none\; table-layout: auto\; text-overflow: clip\; vertical-align: baseline\; visibility: inherit\; word-break: inherit\; overflow-wrap: inherit\; z-index: auto\; background-image: none\; background-position: initial\; background-size: initial\; background-repeat: initial\; background-attachment: initial\; background-origin: initial\; background-clip: initial\; border: none\; border-collapse: separate\; border-radius: 0px\; height: auto\; width: auto\; caret-color: rgb(0\, 0\, 0)\;" />\n<span style="color: rgb(0\, 0\, 0)\; font-family: arial\; font-size: 14px\; caret-color: rgb(0\, 0\, 0)\;">2:00 PM - Welcome and Introductions</span><br style="box-sizing: content-box\; -webkit-tap-highlight-color: rgba(0\, 0\, 0\, 0)\; inset: auto\; clear: none\; color: rgb(0\, 0\, 0)\; content: normal\; direction: inherit\; display: inline\; empty-cells: show\; float: none\; font-variant-numeric: inherit\; font-variant-east-asian: inherit\; font-stretch: inherit\; font-size: 14px\; font-family: arial\; line-height: inherit\; margin: 0px\; max-height: none\; max-width: none\; min-height: initial\; min-width: initial\; opacity: 1\; outline-offset: 0px\; overflow: visible\; padding: 0px\; position: static\; resize: none\; table-layout: auto\; text-overflow: clip\; vertical-align: baseline\; visibility: inherit\; word-break: inherit\; overflow-wrap: inherit\; z-index: auto\; background-image: none\; background-position: initial\; background-size: initial\; background-repeat: initial\; background-attachment: initial\; background-origin: initial\; background-clip: initial\; border: none\; border-collapse: separate\; border-radius: 0px\; height: auto\; width: auto\; caret-color: rgb(0\, 0\, 0)\;" />\n<span style="color: rgb(0\, 0\, 0)\; font-family: arial\; font-size: 14px\; caret-color: rgb(0\, 0\, 0)\;">2:10 PM - Investor Panel moderated by JD Genesser\; Panelists: &nbsp\;Eric&nbsp\;Engelmann\, Craig Ibsen and Joe&nbsp\;Leo</span><br style="box-sizing: content-box\; -webkit-tap-highlight-color: rgba(0\, 0\, 0\, 0)\; inset: auto\; clear: none\; color: rgb(0\, 0\, 0)\; content: normal\; direction: inherit\; display: inline\; empty-cells: show\; float: none\; font-variant-numeric: inherit\; font-variant-east-asian: inherit\; font-stretch: inherit\; font-size: 14px\; font-family: arial\; line-height: inherit\; margin: 0px\; max-height: none\; max-width: none\; min-height: initial\; min-width: initial\; opacity: 1\; outline-offset: 0px\; overflow: visible\; padding: 0px\; position: static\; resize: none\; table-layout: auto\; text-overflow: clip\; vertical-align: baseline\; visibility: inherit\; word-break: inherit\; overflow-wrap: inherit\; z-index: auto\; background-image: none\; background-position: initial\; background-size: initial\; background-repeat: initial\; background-attachment: initial\; background-origin: initial\; background-clip: initial\; border: none\; border-collapse: separate\; border-radius: 0px\; height: auto\; width: auto\; caret-color: rgb(0\, 0\, 0)\;" />\n<span style="color: rgb(0\, 0\, 0)\; font-family: arial\; font-size: 14px\; caret-color: rgb(0\, 0\, 0)\;">2:50 PM - Q&amp\;A</span><br style="box-sizing: content-box\; -webkit-tap-highlight-color: rgba(0\, 0\, 0\, 0)\; inset: auto\; clear: none\; color: rgb(0\, 0\, 0)\; content: normal\; direction: inherit\; display: inline\; empty-cells: show\; float: none\; font-variant-numeric: inherit\; font-variant-east-asian: inherit\; font-stretch: inherit\; font-size: 14px\; font-family: arial\; line-height: inherit\; margin: 0px\; max-height: none\; max-width: none\; min-height: initial\; min-width: initial\; opacity: 1\; outline-offset: 0px\; overflow: visible\; padding: 0px\; position: static\; resize: none\; table-layout: auto\; text-overflow: clip\; vertical-align: baseline\; visibility: inherit\; word-break: inherit\; overflow-wrap: inherit\; z-index: auto\; background-image: none\; background-position: initial\; background-size: initial\; background-repeat: initial\; background-attachment: initial\; background-origin: initial\; background-clip: initial\; border: none\; border-collapse: separate\; border-radius: 0px\; height: auto\; width: auto\; caret-color: rgb(0\, 0\, 0)\;" />\n<span style="color: rgb(0\, 0\, 0)\; font-family: arial\; font-size: 14px\; caret-color: rgb(0\, 0\, 0)\;">3:00 PM - Break</span><br style="box-sizing: content-box\; -webkit-tap-highlight-color: rgba(0\, 0\, 0\, 0)\; inset: auto\; clear: none\; color: rgb(0\, 0\, 0)\; content: normal\; direction: inherit\; display: inline\; empty-cells: show\; float: none\; font-variant-numeric: inherit\; font-variant-east-asian: inherit\; font-stretch: inherit\; font-size: 14px\; font-family: arial\; line-height: inherit\; margin: 0px\; max-height: none\; max-width: none\; min-height: initial\; min-width: initial\; opacity: 1\; outline-offset: 0px\; overflow: visible\; padding: 0px\; position: static\; resize: none\; table-layout: auto\; text-overflow: clip\; vertical-align: baseline\; visibility: inherit\; word-break: inherit\; overflow-wrap: inherit\; z-index: auto\; background-image: none\; background-position: initial\; background-size: initial\; background-repeat: initial\; background-attachment: initial\; background-origin: initial\; background-clip: initial\; border: none\; border-collapse: separate\; border-radius: 0px\; height: auto\; width: auto\; caret-color: rgb(0\, 0\, 0)\;" />\n<span style="color: rgb(0\, 0\, 0)\; font-family: arial\; font-size: 14px\; caret-color: rgb(0\, 0\, 0)\;">3:05 PM - Entrepreneur Panel moderated by Brad Dwyer\; Panelists: Michael Ott\,&nbsp\;Casey Niemann\,&nbsp\;Lana Fox and Kyle McMahon</span><br style="box-sizing: content-box\; -webkit-tap-highlight-color: rgba(0\, 0\, 0\, 0)\; inset: auto\; clear: none\; color: rgb(0\, 0\, 0)\; content: normal\; direction: inherit\; display: inline\; empty-cells: show\; float: none\; font-variant-numeric: inherit\; font-variant-east-asian: inherit\; font-stretch: inherit\; font-size: 14px\; font-family: arial\; line-height: inherit\; margin: 0px\; max-height: none\; max-width: none\; min-height: initial\; min-width: initial\; opacity: 1\; outline-offset: 0px\; overflow: visible\; padding: 0px\; position: static\; resize: none\; table-layout: auto\; text-overflow: clip\; vertical-align: baseline\; visibility: inherit\; word-break: inherit\; overflow-wrap: inherit\; z-index: auto\; background-image: none\; background-position: initial\; background-size: initial\; background-repeat: initial\; background-attachment: initial\; background-origin: initial\; background-clip: initial\; border: none\; border-collapse: separate\; border-radius: 0px\; height: auto\; width: auto\; caret-color: rgb(0\, 0\, 0)\;" />\n<span style="color: rgb(0\, 0\, 0)\; font-family: arial\; font-size: 14px\; caret-color: rgb(0\, 0\, 0)\;">3:45 PM - Q&amp\;A</span><br style="box-sizing: content-box\; -webkit-tap-highlight-color: rgba(0\, 0\, 0\, 0)\; inset: auto\; clear: none\; color: rgb(0\, 0\, 0)\; content: normal\; direction: inherit\; display: inline\; empty-cells: show\; float: none\; font-variant-numeric: inherit\; font-variant-east-asian: inherit\; font-stretch: inherit\; font-size: 14px\; font-family: arial\; line-height: inherit\; margin: 0px\; max-height: none\; max-width: none\; min-height: initial\; min-width: initial\; opacity: 1\; outline-offset: 0px\; overflow: visible\; padding: 0px\; position: static\; resize: none\; table-layout: auto\; text-overflow: clip\; vertical-align: baseline\; visibility: inherit\; word-break: inherit\; overflow-wrap: inherit\; z-index: auto\; background-image: none\; background-position: initial\; background-size: initial\; background-repeat: initial\; background-attachment: initial\; background-origin: initial\; background-clip: initial\; border: none\; border-collapse: separate\; border-radius: 0px\; height: auto\; width: auto\; caret-color: rgb(0\, 0\, 0)\;" />\n<span style="color: rgb(0\, 0\, 0)\; font-family: arial\; font-size: 14px\; caret-color: rgb(0\, 0\, 0)\;">3:55 PM - Closing</span>
LOCATION:This will be a Zoom event. You will need to register in order to receive the link. Register Here: https://members.dsmpartnership.com/events/details/the-current-state-perspectives-on-navigating-seed-and-venture-capital-in-today-s-environment-03-03-2021-59109
UID:e.2636.1599
SEQUENCE:3
DTSTAMP:20260422T173616Z
URL:https://business.grimesiowa.com/events/details/greater-dsm-partnership-perspective-on-navigating-seed-venture-capital-in-today-s-environment-1599
END:VEVENT

END:VCALENDAR
