BEGIN:VCALENDAR
VERSION:2.0
PRODID:-//ChamberMaster//Event Calendar 2.0//EN
METHOD:PUBLISH
X-PUBLISHED-TTL:P3D
REFRESH-INTERVAL:P3D
CALSCALE:GREGORIAN
BEGIN:VEVENT
DTSTART:20180927T213000Z
DTEND:20180927T230000Z
X-MICROSOFT-CDO-ALLDAYEVENT:FALSE
SUMMARY:GreaterU Ribbon Cutting / Grand Opening
DESCRIPTION:Help us celebrate the ribbon cutting & grand opening of GreaterU's very first location! There will be food\, prizes\, & a chance to tour the facility!
X-ALT-DESC;FMTTYPE=text/html:<span style="color: rgb(29\, 33\, 41)\; font-family: Helvetica\, Arial\, sans-serif\; font-size: 14px\;">Help us celebrate the ribbon cutting &amp\; grand opening of GreaterU&#39\;s very first location! There will be food\, prizes\, &amp\; a chance to tour the facility!</span>
LOCATION:1830 SE Princeton Dr\, Ste E
UID:e.2636.1322
SEQUENCE:3
DTSTAMP:20260424T091358Z
URL:https://business.grimesiowa.com/events/details/greateru-ribbon-cutting-grand-opening-1322
END:VEVENT

END:VCALENDAR
