BEGIN:VCALENDAR
VERSION:2.0
PRODID:-//ChamberMaster//Event Calendar 2.0//EN
METHOD:PUBLISH
X-PUBLISHED-TTL:P3D
REFRESH-INTERVAL:P3D
CALSCALE:GREGORIAN
BEGIN:VEVENT
DTSTART:20180320T210000Z
DTEND:20180320T230000Z
X-MICROSOFT-CDO-ALLDAYEVENT:FALSE
SUMMARY:Grimes Chamber & Economic Development 2018 New Member Reception
DESCRIPTION:Grimes Chamber & Economic Development members are invited to welcome our new members to the organization at the New Member Orientation and Reception. At this event you will learn what our organization is about and the opportunities that are available for your business.  Please join us for this great celebration.  RSVP required.
X-ALT-DESC;FMTTYPE=text/html:Grimes Chamber &amp\; Economic Development members are invited to welcome our new members to the organization at the New Member Orientation and Reception. At this event you will learn what our organization is about and the opportunities that are available for your business. &nbsp\;Please join us for this great celebration. &nbsp\;RSVP required.
LOCATION:Kennybrook Village 200 SW Brookside Dr Grimes\, IA 50111
UID:e.2636.239
SEQUENCE:3
DTSTAMP:20260424T173531Z
URL:https://business.grimesiowa.com/events/details/grimes-chamber-economic-development-2018-new-member-reception-239
END:VEVENT

END:VCALENDAR
