BEGIN:VCALENDAR
VERSION:2.0
PRODID:-//ChamberMaster//Event Calendar 2.0//EN
METHOD:PUBLISH
X-PUBLISHED-TTL:P3D
REFRESH-INTERVAL:P3D
CALSCALE:GREGORIAN
BEGIN:VEVENT
DTSTART:20161012T200000Z
DTEND:20161012T230000Z
X-MICROSOFT-CDO-ALLDAYEVENT:FALSE
SUMMARY:Grimes Chamber & Economic Development and Johnston Economic Development Bus Tour
DESCRIPTION:Join Grimes Chamber & Economic Development and Johnston Economic Development for our Annual Economic Development Bus Tour.  This year the Johnston tour will include a look at the Terra Lake Park Project and a tour of the new Johnston High School project.  The Grimes tour will highlight several projects and areas of development in the Grimes community. The tour will begin at 3:00 PM and conclude at 5:00 PM with an informal networking reception.  Due to limited seating on the busses\, this event is now full.
X-ALT-DESC;FMTTYPE=text/html:Join Grimes Chamber &amp\; Economic Development and Johnston Economic Development for our Annual Economic Development Bus Tour. &nbsp\;This year the Johnston tour will include a look at the Terra Lake Park Project and a tour of the new Johnston High School project. &nbsp\;The Grimes tour will highlight several projects and areas of development in the Grimes community. The tour will begin at 3:00 PM and conclude at 5:00 PM with an informal networking reception. &nbsp\;<span style="color:#FF0000\;"><strong>Due to limited seating on the busses\, this event is now full.</strong></span>
LOCATION:Crescent Chase I - Office Building 8850 NW 62nd Avene Johnston\, IA 50131
UID:e.2636.33
SEQUENCE:3
DTSTAMP:20260425T175544Z
URL:https://business.grimesiowa.com/events/details/grimes-chamber-economic-development-and-johnston-economic-development-bus-tour-33
END:VEVENT

END:VCALENDAR
